BEGIN:VCALENDAR
VERSION:2.0
PRODID:-//ChamberMaster//Event Calendar 2.0//EN
METHOD:PUBLISH
X-PUBLISHED-TTL:P3D
REFRESH-INTERVAL:P3D
CALSCALE:GREGORIAN
BEGIN:VEVENT
DTSTART:20250318T230000Z
DTEND:20250319T010000Z
X-MICROSOFT-CDO-ALLDAYEVENT:FALSE
SUMMARY:YFC Stories of Hope
DESCRIPTION:Step into a night of inspiration and transformation a unique opportunity to uplift Iowa's youth and witness stories that ignite hope and change. Experience powerful\, inspiring stories that showcase the life-changing impact of Youth For Christ in our community and across Iowa. These stories will touch your heart and remind you of the importance of investing in the next generation.\n\n \n\nBut the inspiration doesn't stop there! Savor delicious desserts\, spend time with old and new friends\, and enjoy the warm\, inviting atmosphere designed to make every moment count.
X-ALT-DESC;FMTTYPE=text/html:<p style="--tw-border-spacing-x: 0\; --tw-border-spacing-y: 0\; --tw-translate-x: 0\; --tw-translate-y: 0\; --tw-rotate: 0\; --tw-skew-x: 0\; --tw-skew-y: 0\; --tw-scale-x: 1\; --tw-scale-y: 1\; --tw-pan-x: \; --tw-pan-y: \; --tw-pinch-zoom: \; --tw-scroll-snap-strictness: proximity\; --tw-gradient-from-position: \; --tw-gradient-via-position: \; --tw-gradient-to-position: \; --tw-ordinal: \; --tw-slashed-zero: \; --tw-numeric-figure: \; --tw-numeric-spacing: \; --tw-numeric-fraction: \; --tw-ring-inset: \; --tw-ring-offset-width: 0px\; --tw-ring-offset-color: #fff\; --tw-ring-color: rgba(59\,130\,246\,.5)\; --tw-ring-offset-shadow: 0 0 #0000\; --tw-ring-shadow: 0 0 #0000\; --tw-shadow: 0 0 #0000\; --tw-shadow-colored: 0 0 #0000\; --tw-blur: \; --tw-brightness: \; --tw-contrast: \; --tw-grayscale: \; --tw-hue-rotate: \; --tw-invert: \; --tw-saturate: \; --tw-sepia: \; --tw-drop-shadow: \; --tw-backdrop-blur: \; --tw-backdrop-brightness: \; --tw-backdrop-contrast: \; --tw-backdrop-grayscale: \; --tw-backdrop-hue-rotate: \; --tw-backdrop-invert: \; --tw-backdrop-opacity: \; --tw-backdrop-saturate: \; --tw-backdrop-sepia: \; --tw-contain-size: \; --tw-contain-layout: \; --tw-contain-paint: \; --tw-contain-style: \; border: 0px solid rgb(240\, 244\, 250)\; margin: 0px\; padding: 0px\; color: rgb(70\, 70\, 70)\; font-family: Arial\, Verdana\, Helvetica\, sans-serif\; font-size: 14px\; white-space-collapse: preserve\;"><span style="--tw-border-spacing-x: 0\; --tw-border-spacing-y: 0\; --tw-translate-x: 0\; --tw-translate-y: 0\; --tw-rotate: 0\; --tw-skew-x: 0\; --tw-skew-y: 0\; --tw-scale-x: 1\; --tw-scale-y: 1\; --tw-pan-x: \; --tw-pan-y: \; --tw-pinch-zoom: \; --tw-scroll-snap-strictness: proximity\; --tw-gradient-from-position: \; --tw-gradient-via-position: \; --tw-gradient-to-position: \; --tw-ordinal: \; --tw-slashed-zero: \; --tw-numeric-figure: \; --tw-numeric-spacing: \; --tw-numeric-fraction: \; --tw-ring-inset: \; --tw-ring-offset-width: 0px\; --tw-ring-offset-color: #fff\; --tw-ring-color: rgba(59\,130\,246\,.5)\; --tw-ring-offset-shadow: 0 0 #0000\; --tw-ring-shadow: 0 0 #0000\; --tw-shadow: 0 0 #0000\; --tw-shadow-colored: 0 0 #0000\; --tw-blur: \; --tw-brightness: \; --tw-contrast: \; --tw-grayscale: \; --tw-hue-rotate: \; --tw-invert: \; --tw-saturate: \; --tw-sepia: \; --tw-drop-shadow: \; --tw-backdrop-blur: \; --tw-backdrop-brightness: \; --tw-backdrop-contrast: \; --tw-backdrop-grayscale: \; --tw-backdrop-hue-rotate: \; --tw-backdrop-invert: \; --tw-backdrop-opacity: \; --tw-backdrop-saturate: \; --tw-backdrop-sepia: \; --tw-contain-size: \; --tw-contain-layout: \; --tw-contain-paint: \; --tw-contain-style: \; border: 0px solid rgb(240\, 244\, 250)\; color: rgb(28\, 28\, 28)\; font-size: 12px\;">Step into a night of inspiration and transformation&mdash\;a unique opportunity to uplift Iowa&#39\;s youth and witness stories that ignite hope and change. Experience powerful\, inspiring stories that showcase the life-changing impact of Youth For Christ in our community and across Iowa. These stories will touch your heart and remind you of the importance of investing in the next generation.</span></p>\n\n<p style="--tw-border-spacing-x: 0\; --tw-border-spacing-y: 0\; --tw-translate-x: 0\; --tw-translate-y: 0\; --tw-rotate: 0\; --tw-skew-x: 0\; --tw-skew-y: 0\; --tw-scale-x: 1\; --tw-scale-y: 1\; --tw-pan-x: \; --tw-pan-y: \; --tw-pinch-zoom: \; --tw-scroll-snap-strictness: proximity\; --tw-gradient-from-position: \; --tw-gradient-via-position: \; --tw-gradient-to-position: \; --tw-ordinal: \; --tw-slashed-zero: \; --tw-numeric-figure: \; --tw-numeric-spacing: \; --tw-numeric-fraction: \; --tw-ring-inset: \; --tw-ring-offset-width: 0px\; --tw-ring-offset-color: #fff\; --tw-ring-color: rgba(59\,130\,246\,.5)\; --tw-ring-offset-shadow: 0 0 #0000\; --tw-ring-shadow: 0 0 #0000\; --tw-shadow: 0 0 #0000\; --tw-shadow-colored: 0 0 #0000\; --tw-blur: \; --tw-brightness: \; --tw-contrast: \; --tw-grayscale: \; --tw-hue-rotate: \; --tw-invert: \; --tw-saturate: \; --tw-sepia: \; --tw-drop-shadow: \; --tw-backdrop-blur: \; --tw-backdrop-brightness: \; --tw-backdrop-contrast: \; --tw-backdrop-grayscale: \; --tw-backdrop-hue-rotate: \; --tw-backdrop-invert: \; --tw-backdrop-opacity: \; --tw-backdrop-saturate: \; --tw-backdrop-sepia: \; --tw-contain-size: \; --tw-contain-layout: \; --tw-contain-paint: \; --tw-contain-style: \; border: 0px solid rgb(240\, 244\, 250)\; margin: 0px\; padding: 0px\; color: rgb(70\, 70\, 70)\; font-family: Arial\, Verdana\, Helvetica\, sans-serif\; font-size: 14px\; white-space-collapse: preserve\;">&nbsp\;</p>\n\n<p style="--tw-border-spacing-x: 0\; --tw-border-spacing-y: 0\; --tw-translate-x: 0\; --tw-translate-y: 0\; --tw-rotate: 0\; --tw-skew-x: 0\; --tw-skew-y: 0\; --tw-scale-x: 1\; --tw-scale-y: 1\; --tw-pan-x: \; --tw-pan-y: \; --tw-pinch-zoom: \; --tw-scroll-snap-strictness: proximity\; --tw-gradient-from-position: \; --tw-gradient-via-position: \; --tw-gradient-to-position: \; --tw-ordinal: \; --tw-slashed-zero: \; --tw-numeric-figure: \; --tw-numeric-spacing: \; --tw-numeric-fraction: \; --tw-ring-inset: \; --tw-ring-offset-width: 0px\; --tw-ring-offset-color: #fff\; --tw-ring-color: rgba(59\,130\,246\,.5)\; --tw-ring-offset-shadow: 0 0 #0000\; --tw-ring-shadow: 0 0 #0000\; --tw-shadow: 0 0 #0000\; --tw-shadow-colored: 0 0 #0000\; --tw-blur: \; --tw-brightness: \; --tw-contrast: \; --tw-grayscale: \; --tw-hue-rotate: \; --tw-invert: \; --tw-saturate: \; --tw-sepia: \; --tw-drop-shadow: \; --tw-backdrop-blur: \; --tw-backdrop-brightness: \; --tw-backdrop-contrast: \; --tw-backdrop-grayscale: \; --tw-backdrop-hue-rotate: \; --tw-backdrop-invert: \; --tw-backdrop-opacity: \; --tw-backdrop-saturate: \; --tw-backdrop-sepia: \; --tw-contain-size: \; --tw-contain-layout: \; --tw-contain-paint: \; --tw-contain-style: \; border: 0px solid rgb(240\, 244\, 250)\; margin: 0px\; padding: 0px\; color: rgb(70\, 70\, 70)\; font-family: Arial\, Verdana\, Helvetica\, sans-serif\; font-size: 14px\; white-space-collapse: preserve\; text-align: center\;"><span style="--tw-border-spacing-x: 0\; --tw-border-spacing-y: 0\; --tw-translate-x: 0\; --tw-translate-y: 0\; --tw-rotate: 0\; --tw-skew-x: 0\; --tw-skew-y: 0\; --tw-scale-x: 1\; --tw-scale-y: 1\; --tw-pan-x: \; --tw-pan-y: \; --tw-pinch-zoom: \; --tw-scroll-snap-strictness: proximity\; --tw-gradient-from-position: \; --tw-gradient-via-position: \; --tw-gradient-to-position: \; --tw-ordinal: \; --tw-slashed-zero: \; --tw-numeric-figure: \; --tw-numeric-spacing: \; --tw-numeric-fraction: \; --tw-ring-inset: \; --tw-ring-offset-width: 0px\; --tw-ring-offset-color: #fff\; --tw-ring-color: rgba(59\,130\,246\,.5)\; --tw-ring-offset-shadow: 0 0 #0000\; --tw-ring-shadow: 0 0 #0000\; --tw-shadow: 0 0 #0000\; --tw-shadow-colored: 0 0 #0000\; --tw-blur: \; --tw-brightness: \; --tw-contrast: \; --tw-grayscale: \; --tw-hue-rotate: \; --tw-invert: \; --tw-saturate: \; --tw-sepia: \; --tw-drop-shadow: \; --tw-backdrop-blur: \; --tw-backdrop-brightness: \; --tw-backdrop-contrast: \; --tw-backdrop-grayscale: \; --tw-backdrop-hue-rotate: \; --tw-backdrop-invert: \; --tw-backdrop-opacity: \; --tw-backdrop-saturate: \; --tw-backdrop-sepia: \; --tw-contain-size: \; --tw-contain-layout: \; --tw-contain-paint: \; --tw-contain-style: \; border: 0px solid rgb(240\, 244\, 250)\; color: rgb(28\, 28\, 28)\; font-size: 12px\;">But the inspiration doesn&#39\;t stop there! Savor delicious desserts\, spend time with old and new friends\, and enjoy the warm\, inviting atmosphere designed to make every moment count.&nbsp\;</span></p>\n\n<p style="--tw-border-spacing-x: 0\; --tw-border-spacing-y: 0\; --tw-translate-x: 0\; --tw-translate-y: 0\; --tw-rotate: 0\; --tw-skew-x: 0\; --tw-skew-y: 0\; --tw-scale-x: 1\; --tw-scale-y: 1\; --tw-pan-x: \; --tw-pan-y: \; --tw-pinch-zoom: \; --tw-scroll-snap-strictness: proximity\; --tw-gradient-from-position: \; --tw-gradient-via-position: \; --tw-gradient-to-position: \; --tw-ordinal: \; --tw-slashed-zero: \; --tw-numeric-figure: \; --tw-numeric-spacing: \; --tw-numeric-fraction: \; --tw-ring-inset: \; --tw-ring-offset-width: 0px\; --tw-ring-offset-color: #fff\; --tw-ring-color: rgba(59\,130\,246\,.5)\; --tw-ring-offset-shadow: 0 0 #0000\; --tw-ring-shadow: 0 0 #0000\; --tw-shadow: 0 0 #0000\; --tw-shadow-colored: 0 0 #0000\; --tw-blur: \; --tw-brightness: \; --tw-contrast: \; --tw-grayscale: \; --tw-hue-rotate: \; --tw-invert: \; --tw-saturate: \; --tw-sepia: \; --tw-drop-shadow: \; --tw-backdrop-blur: \; --tw-backdrop-brightness: \; --tw-backdrop-contrast: \; --tw-backdrop-grayscale: \; --tw-backdrop-hue-rotate: \; --tw-backdrop-invert: \; --tw-backdrop-opacity: \; --tw-backdrop-saturate: \; --tw-backdrop-sepia: \; --tw-contain-size: \; --tw-contain-layout: \; --tw-contain-paint: \; --tw-contain-style: \; border: 0px solid rgb(240\, 244\, 250)\; margin: 0px\; padding: 0px\; color: rgb(70\, 70\, 70)\; font-family: Arial\, Verdana\, Helvetica\, sans-serif\; font-size: 14px\; white-space-collapse: preserve\; text-align: center\;">&nbsp\;</p>\n\n<p style="--tw-border-spacing-x: 0\; --tw-border-spacing-y: 0\; --tw-translate-x: 0\; --tw-translate-y: 0\; --tw-rotate: 0\; --tw-skew-x: 0\; --tw-skew-y: 0\; --tw-scale-x: 1\; --tw-scale-y: 1\; --tw-pan-x: \; --tw-pan-y: \; --tw-pinch-zoom: \; --tw-scroll-snap-strictness: proximity\; --tw-gradient-from-position: \; --tw-gradient-via-position: \; --tw-gradient-to-position: \; --tw-ordinal: \; --tw-slashed-zero: \; --tw-numeric-figure: \; --tw-numeric-spacing: \; --tw-numeric-fraction: \; --tw-ring-inset: \; --tw-ring-offset-width: 0px\; --tw-ring-offset-color: #fff\; --tw-ring-color: rgba(59\,130\,246\,.5)\; --tw-ring-offset-shadow: 0 0 #0000\; --tw-ring-shadow: 0 0 #0000\; --tw-shadow: 0 0 #0000\; --tw-shadow-colored: 0 0 #0000\; --tw-blur: \; --tw-brightness: \; --tw-contrast: \; --tw-grayscale: \; --tw-hue-rotate: \; --tw-invert: \; --tw-saturate: \; --tw-sepia: \; --tw-drop-shadow: \; --tw-backdrop-blur: \; --tw-backdrop-brightness: \; --tw-backdrop-contrast: \; --tw-backdrop-grayscale: \; --tw-backdrop-hue-rotate: \; --tw-backdrop-invert: \; --tw-backdrop-opacity: \; --tw-backdrop-saturate: \; --tw-backdrop-sepia: \; --tw-contain-size: \; --tw-contain-layout: \; --tw-contain-paint: \; --tw-contain-style: \; border: 0px solid rgb(240\, 244\, 250)\; margin: 0px\; padding: 0px\; color: rgb(70\, 70\, 70)\; font-family: Arial\, Verdana\, Helvetica\, sans-serif\; font-size: 14px\; white-space-collapse: preserve\; text-align: center\;">&nbsp\;</p>\n
LOCATION:Surf Ballroom
UID:e.1102.739482
SEQUENCE:3
DTSTAMP:20260422T184637Z
URL:https://members.clearlakeiowa.com/events/details/yfc-stories-of-hope-739482
END:VEVENT

END:VCALENDAR
