BEGIN:VCALENDAR
VERSION:2.0
PRODID:-//ChamberMaster//Event Calendar 2.0//EN
METHOD:PUBLISH
X-PUBLISHED-TTL:P3D
REFRESH-INTERVAL:P3D
CALSCALE:GREGORIAN
BEGIN:VEVENT
DTSTART:20210731T130000Z
DTEND:20210731T210000Z
X-MICROSOFT-CDO-ALLDAYEVENT:FALSE
SUMMARY:Woodford Lumber & Home Grand Opening
DESCRIPTION:Help us celebrate our new facility! FREE product giveaways\, BBQ samples\, Food\, Music\, Games and More! Come enjoy the event and enter a chance to win a $500 shopping spree at Woodford Lumber & Home!
X-ALT-DESC;FMTTYPE=text/html:Help us celebrate our new facility! FREE product giveaways\, BBQ samples\, Food\, Music\, Games and More! Come enjoy the event and enter a chance to win a $500 shopping spree at Woodford Lumber &amp\; Home!
LOCATION:1800 7th Ave N Clear Lake\, Iowa 50428
UID:e.1102.733792
SEQUENCE:3
DTSTAMP:20260420T050455Z
URL:https://members.clearlakeiowa.com/events/details/woodford-lumber-home-grand-opening-733792
END:VEVENT

END:VCALENDAR
