BEGIN:VCALENDAR
VERSION:2.0
PRODID:-//ChamberMaster//Event Calendar 2.0//EN
METHOD:PUBLISH
X-PUBLISHED-TTL:P3D
REFRESH-INTERVAL:P3D
CALSCALE:GREGORIAN
BEGIN:VEVENT
DTSTART:20191220T003000Z
DTEND:20191220T033000Z
X-MICROSOFT-CDO-ALLDAYEVENT:FALSE
SUMMARY:Winter Games Series - Trivia Night
DESCRIPTION:Come join us for the first installment of four of the Clear Lake Jaycees Winter Game Series! We will kick off our game series with a fun night of trivia focused on all your favorite movies and TV shows! If you consider yourself a trivia expert of all things The Office\, Harry Potter\, Disney\, and more this is the event for you!\n\n\n\nBring a team of 2-6 people to test your luck and prove you are the smartest and biggest fan of your favorite shows and movies. Wear your ugliest Christmas sweater\, suit\, or onesie to get into the holiday spirit. The best Christmas outfit will win a fantastic prize! \n\n\n\nRegistration for trivia night is $15 per person\, which includes two free drinks from the bar. Registration starts at 6:30pm with trivia starting at 7pm.
X-ALT-DESC;FMTTYPE=text/html:<span style="color: rgb(29\, 33\, 41)\; font-family: Helvetica\, Arial\, sans-serif\; font-size: 14px\; white-space: pre-wrap\; background-color: rgb(255\, 255\, 255)\;">Come join us for the first installment of four of the Clear Lake Jaycees Winter Game Series! We will kick off our game series with a fun night of trivia focused on all your favorite movies and TV shows! If you consider yourself a trivia expert of all things The Office\, Harry Potter\, Disney\, and more this is the event for you!</span><br style="color: rgb(29\, 33\, 41)\; font-family: Helvetica\, Arial\, sans-serif\; font-size: 14px\; white-space: pre-wrap\; background-color: rgb(255\, 255\, 255)\;" />\n<br style="color: rgb(29\, 33\, 41)\; font-family: Helvetica\, Arial\, sans-serif\; font-size: 14px\; white-space: pre-wrap\; background-color: rgb(255\, 255\, 255)\;" />\n<span style="color: rgb(29\, 33\, 41)\; font-family: Helvetica\, Arial\, sans-serif\; font-size: 14px\; white-space: pre-wrap\; background-color: rgb(255\, 255\, 255)\;">Bring a team of 2-6 people to test your luck and prove you are the smartest and biggest fan of your favorite shows and movies. Wear your ugliest Christmas sweater\, suit\, or onesie to get into the holiday spirit. The best Christmas outfit will win a fantastic prize! </span><br style="color: rgb(29\, 33\, 41)\; font-family: Helvetica\, Arial\, sans-serif\; font-size: 14px\; white-space: pre-wrap\; background-color: rgb(255\, 255\, 255)\;" />\n<br style="color: rgb(29\, 33\, 41)\; font-family: Helvetica\, Arial\, sans-serif\; font-size: 14px\; white-space: pre-wrap\; background-color: rgb(255\, 255\, 255)\;" />\n<span style="color: rgb(29\, 33\, 41)\; font-family: Helvetica\, Arial\, sans-serif\; font-size: 14px\; white-space: pre-wrap\; background-color: rgb(255\, 255\, 255)\;">Registration for trivia night is $15 per person\, which includes two free drinks from the bar. Registration starts at 6:30pm with trivia starting at 7pm.</span>
LOCATION:Surf District Rock & Roll Grill
UID:e.1102.732460
SEQUENCE:3
DTSTAMP:20260421T161025Z
URL:https://members.clearlakeiowa.com/events/details/winter-games-series-trivia-night-732460
END:VEVENT

END:VCALENDAR
