BEGIN:VCALENDAR
VERSION:2.0
PRODID:-//ChamberMaster//Event Calendar 2.0//EN
METHOD:PUBLISH
X-PUBLISHED-TTL:P3D
REFRESH-INTERVAL:P3D
CALSCALE:GREGORIAN
BEGIN:VEVENT
DTSTART:20191012T183000Z
DTEND:20191012T200000Z
X-MICROSOFT-CDO-ALLDAYEVENT:FALSE
SUMMARY:We Are Going to America!
DESCRIPTION:WE ARE GOING TO AMERICA! Since the 16th century\, people have chosen to relocate to North America. The October 12\, 2019 NCIGS session will provide: why\, numbers\, locales\, plus response to the newcomers. Expect to learn of family stories such as: ship travel length\, subsequent relocation\, document information and nationality clusters. A starting location 4\,000-5\,000 miles to a new place to live and work!
X-ALT-DESC;FMTTYPE=text/html:WE ARE GOING TO AMERICA! Since the 16th century\, people have chosen to relocate to North America. The October 12\, 2019 NCIGS session will provide: why\, numbers\, locales\, plus response to the newcomers. Expect to learn of family stories such as: ship travel length\, subsequent relocation\, document information and nationality clusters. A starting location 4\,000-5\,000 miles to a new place to live and work!
LOCATION:Clear Lake Public Library 200 N 4th St Clear Lake\, IA 50428
UID:e.1102.732325
SEQUENCE:3
DTSTAMP:20260421T184437Z
URL:https://members.clearlakeiowa.com/events/details/we-are-going-to-america-732325
END:VEVENT

END:VCALENDAR
