BEGIN:VCALENDAR
VERSION:2.0
PRODID:-//ChamberMaster//Event Calendar 2.0//EN
METHOD:PUBLISH
X-PUBLISHED-TTL:P3D
REFRESH-INTERVAL:P3D
CALSCALE:GREGORIAN
BEGIN:VEVENT
DTSTART:20260503T190000Z
DTEND:20260503T210000Z
X-MICROSOFT-CDO-ALLDAYEVENT:FALSE
SUMMARY:Volunteer Open House
DESCRIPTION:Volunteer Open House at Central Gardens Discover how you can be part of something special at Central Gardens! Join us for a relaxed and welcoming afternoon with refreshments\, conversation\, and a chance to explore the many ways to get involved. This is a come-and-go event\, taking place from 2 4 p.m. on Sunday\, May 3rd. At 2:30 p.m.\, Central Gardens Board President Doug Marty will share a brief overview of the Gardens and the many ways you can get involved. Whether you enjoy working with your hands\, connecting with people\, or sharing your creativity\, there's a place for you here. Learn about our volunteer opportunities\, including: Marketing   Help share the story of Central Gardens and promote events and programs Events   Support planning\, logistics\, and behind-the-scenes efforts\, or serve on the Events Committee Gardens   Get "down & dirty" with our Tuesday evening / Wednesday morning garden group or adopt one of our 20+ themed gardens to help care for throughout the season Youth Programs   Inspire the next generation through programs like Gardeners of Tomorrow\, Fresh on Fridays\, and school visits Entertainment & Classes   Share your talents by hosting a class\, leading a workshop\, or helping with music and guest programming Signature & Seasonal Events   Lend a hand at favorites like the Summer Garden Party\, Pumpkin Palooza\, and Fresh on Fridays Winter in the Gardens   Help us grow new ideas for off-season events and holiday programming No matter your interests\, schedule\, or experience level\, you'll find a welcoming community and meaningful ways to contribute. Come see what Central Gardens is all about\, we'd love to meet you!
X-ALT-DESC;FMTTYPE=text/html:Volunteer Open House at Central Gardens Discover how you can be part of something special at Central Gardens! Join us for a relaxed and welcoming afternoon with refreshments\, conversation\, and a chance to explore the many ways to get involved. This is a come-and-go event\, taking place from 2&ndash\;4 p.m. on Sunday\, May 3rd. At 2:30 p.m.\, Central Gardens Board President Doug Marty will share a brief overview of the Gardens and the many ways you can get involved. Whether you enjoy working with your hands\, connecting with people\, or sharing your creativity\, there&rsquo\;s a place for you here. Learn about our volunteer opportunities\, including: Marketing &ndash\; Help share the story of Central Gardens and promote events and programs Events &ndash\; Support planning\, logistics\, and behind-the-scenes efforts\, or serve on the Events Committee Gardens &ndash\; Get &ldquo\;down &amp\; dirty&rdquo\; with our Tuesday evening / Wednesday morning garden group or adopt one of our 20+ themed gardens to help care for throughout the season Youth Programs &ndash\; Inspire the next generation through programs like Gardeners of Tomorrow\, Fresh on Fridays\, and school visits Entertainment &amp\; Classes &ndash\; Share your talents by hosting a class\, leading a workshop\, or helping with music and guest programming Signature &amp\; Seasonal Events &ndash\; Lend a hand at favorites like the Summer Garden Party\, Pumpkin Palooza\, and Fresh on Fridays Winter in the Gardens &ndash\; Help us grow new ideas for off-season events and holiday programming No matter your interests\, schedule\, or experience level\, you&rsquo\;ll find a welcoming community and meaningful ways to contribute. Come see what Central Gardens is all about\, we&rsquo\;d love to meet you!
LOCATION:Central Gardens of North Iowa
UID:e.1102.741345
SEQUENCE:3
DTSTAMP:20260419T122945Z
URL:https://members.clearlakeiowa.com/events/details/volunteer-open-house-05-03-2026-741345
END:VEVENT

END:VCALENDAR
