BEGIN:VCALENDAR
VERSION:2.0
PRODID:-//ChamberMaster//Event Calendar 2.0//EN
METHOD:PUBLISH
X-PUBLISHED-TTL:P3D
REFRESH-INTERVAL:P3D
CALSCALE:GREGORIAN
BEGIN:VEVENT
DTSTART:20190926T230000Z
DTEND:20190927T013000Z
X-MICROSOFT-CDO-ALLDAYEVENT:FALSE
SUMMARY:Vacation Rental Tips with Postcard Jar
DESCRIPTION:Attention vacation rental owners\, plus potential vacation owners & realtors! Our friends Steve & Ann from Postcard Jar will be in Clear Lake with some amazing tips on being an Airbnb/VRBO/HomeAway\, etc host. They have an Airbnb in Pawhuska\, Oklahoma (hello The Pioneer Woman - Ree Drummond!)\, as well as travel extensively\, so they are experts and will share best practices.\n\n\n\nWe will also include information on City/State regulations specifically to Clear Lake and Cerro Gordo County\, as well as marketing opportunities (like hosting awesome travel writers like the Tegets!).\n\n\n\n6pm: Arrive and socialize at Lake Time Brewery\n\n6:30-7:30: Steve & Ann Teget's Best Practices for Vacation Rental Hosts\n\n7:30-8:00pm: Clear Lake Building Inspector Mike Ritter will discuss short term rental regulations and answer your questions.\n\n\n\nAre you interested? Join us! Your first drink and pizza is provided in the cost of the session!\n\n\n\nSponsored by the Clear Lake Multiple Listing Service
X-ALT-DESC;FMTTYPE=text/html:<span style="font-size:14px\;"><span style="font-family:arial\;"><span style="background:white\;"><span style="color:#1D2129\;">Attention vacation rental owners\, plus potential vacation owners &amp\; realtors! Our friends Steve &amp\; Ann from&nbsp\;</span></span><a data-hovercard="/ajax/hovercard/page.php?id=668795713160154&amp\;extragetparams=%7B%22eid%22%3A%22ARDoLRcwsFgVVHoywKFUhVqRCMaDRkoioiI-8prpAOhnx-BPrMZx6erl0sBOrg4vvAG4xKaLQPbj_PX6%22%2C%22directed_target_id%22%3A231103591148477%7D" data-hovercard-prefer-more-content-show="1" href="https://www.facebook.com/postcardjar/?eid=ARDoLRcwsFgVVHoywKFUhVqRCMaDRkoioiI-8prpAOhnx-BPrMZx6erl0sBOrg4vvAG4xKaLQPbj_PX6" style="cursor:pointer\;font-variant-ligatures:normal\;font-variant-caps:normal\;orphans:2\;text-align:start\;widows:2\;-webkit-text-stroke-width:0px\;word-spacing:0px\;"><span style="background:white\;text-decoration:none\;text-underline:none\;"><span style="color:#385898\;">Postcard Jar</span></span></a><span style="background:white\;"><span style="color:#1D2129\;"><span style="font-variant-ligatures:normal\;font-variant-caps:normal\;orphans:2\;text-align:start\;widows:2\;-webkit-text-stroke-width:0px\;text-decoration-style:initial\;float:none\;word-spacing:0px\;">&nbsp\;will be in Clear Lake with some amazing tips on being an Airbnb/VRBO/HomeAway\, etc host. They have an Airbnb in Pawhuska\, Oklahoma (hello&nbsp\;</span></span></span><a data-hovercard="/ajax/hovercard/page.php?id=111065157857&amp\;extragetparams=%7B%22eid%22%3A%22ARBQlXoS-R1EYiBTRzjkNSmwVmZxzDe-mrQyU8Qb2NEahPjxb3TKyg7vuIsgcqdf1GsLWw60xhTe-yak%22%2C%22directed_target_id%22%3A231103591148477%7D" data-hovercard-prefer-more-content-show="1" href="https://www.facebook.com/thepioneerwoman/?eid=ARBQlXoS-R1EYiBTRzjkNSmwVmZxzDe-mrQyU8Qb2NEahPjxb3TKyg7vuIsgcqdf1GsLWw60xhTe-yak" style="cursor:pointer\;font-variant-ligatures:normal\;font-variant-caps:normal\;orphans:2\;text-align:start\;widows:2\;-webkit-text-stroke-width:0px\;word-spacing:0px\;"><span style="background:white\;text-decoration:none\;text-underline:none\;"><span style="color:#385898\;">The Pioneer Woman - Ree Drummond</span></span></a><span style="background:white\;"><span style="color:#1D2129\;"><span style="font-variant-ligatures:normal\;font-variant-caps:normal\;orphans:2\;text-align:start\;widows:2\;-webkit-text-stroke-width:0px\;text-decoration-style:initial\;float:none\;word-spacing:0px\;">!)\, as well as travel extensively\, so they are experts and will share best practices.</span></span></span><br style="font-variant-ligatures:normal\;font-variant-caps:normal\;orphans:2\;text-align:start\;widows:2\;-webkit-text-stroke-width:0px\;text-decoration-style:initial\;word-spacing:0px\;" />\n<br style="font-variant-ligatures:normal\;font-variant-caps:normal\;orphans:2\;text-align:start\;widows:2\;-webkit-text-stroke-width:0px\;text-decoration-style:initial\;word-spacing:0px\;" />\n<span style="color:#1D2129\;"><span style="background:white\;"><span style="font-variant-ligatures:normal\;font-variant-caps:normal\;orphans:2\;text-align:start\;widows:2\;-webkit-text-stroke-width:0px\;text-decoration-style:initial\;float:none\;word-spacing:0px\;">We will also include information on City/State regulations specifically to Clear Lake and Cerro Gordo County\, as well as marketing opportunities (like hosting awesome travel writers like the Tegets!).</span></span><br style="font-variant-ligatures:normal\;font-variant-caps:normal\;orphans:2\;text-align:start\;widows:2\;-webkit-text-stroke-width:0px\;text-decoration-style:initial\;word-spacing:0px\;" />\n<br style="font-variant-ligatures:normal\;font-variant-caps:normal\;orphans:2\;text-align:start\;widows:2\;-webkit-text-stroke-width:0px\;text-decoration-style:initial\;word-spacing:0px\;" />\n<span style="background:white\;"><span style="font-variant-ligatures:normal\;font-variant-caps:normal\;orphans:2\;text-align:start\;widows:2\;-webkit-text-stroke-width:0px\;text-decoration-style:initial\;float:none\;word-spacing:0px\;">6pm: Arrive and socialize at Lake Time Brewery</span></span><br style="font-variant-ligatures:normal\;font-variant-caps:normal\;orphans:2\;text-align:start\;widows:2\;-webkit-text-stroke-width:0px\;text-decoration-style:initial\;word-spacing:0px\;" />\n<span style="background:white\;"><span style="font-variant-ligatures:normal\;font-variant-caps:normal\;orphans:2\;text-align:start\;widows:2\;-webkit-text-stroke-width:0px\;text-decoration-style:initial\;float:none\;word-spacing:0px\;">6:30-7:30: Steve &amp\; Ann Teget&#39\;s Best Practices for Vacation Rental Hosts</span></span><br style="font-variant-ligatures:normal\;font-variant-caps:normal\;orphans:2\;text-align:start\;widows:2\;-webkit-text-stroke-width:0px\;text-decoration-style:initial\;word-spacing:0px\;" />\n<span style="background:white\;"><span style="font-variant-ligatures:normal\;font-variant-caps:normal\;orphans:2\;text-align:start\;widows:2\;-webkit-text-stroke-width:0px\;text-decoration-style:initial\;float:none\;word-spacing:0px\;">7:30-8:00pm: Clear Lake Building Inspector Mike Ritter will discuss short term rental regulations and answer your questions.</span></span><br style="font-variant-ligatures:normal\;font-variant-caps:normal\;orphans:2\;text-align:start\;widows:2\;-webkit-text-stroke-width:0px\;text-decoration-style:initial\;word-spacing:0px\;" />\n<br style="font-variant-ligatures:normal\;font-variant-caps:normal\;orphans:2\;text-align:start\;widows:2\;-webkit-text-stroke-width:0px\;text-decoration-style:initial\;word-spacing:0px\;" />\n<span style="background:white\;"><span style="font-variant-ligatures:normal\;font-variant-caps:normal\;orphans:2\;text-align:start\;widows:2\;-webkit-text-stroke-width:0px\;text-decoration-style:initial\;float:none\;word-spacing:0px\;">Are you interested? Join us! Your first drink and pizza is provided in the cost of the session!<br />\n<br />\nSponsored by the Clear Lake Multiple Listing Service</span></span></span></span></span>
LOCATION:Lake Time Brewery
UID:e.1102.732287
SEQUENCE:3
DTSTAMP:20260421T201855Z
URL:https://members.clearlakeiowa.com/events/details/vacation-rental-tips-with-postcard-jar-732287
END:VEVENT

END:VCALENDAR
