BEGIN:VCALENDAR
VERSION:2.0
PRODID:-//ChamberMaster//Event Calendar 2.0//EN
METHOD:PUBLISH
X-PUBLISHED-TTL:P3D
REFRESH-INTERVAL:P3D
CALSCALE:GREGORIAN
BEGIN:VEVENT
DTSTART:20191031T223000Z
DTEND:20191101T003000Z
X-MICROSOFT-CDO-ALLDAYEVENT:FALSE
SUMMARY:Trick or Treat Night
DESCRIPTION:Trick or Treat night will be Thursday\, October 31st from 5:30-7:30pm.
X-ALT-DESC;FMTTYPE=text/html:Trick or Treat night will be Thursday\, October 31st from 5:30-7:30pm.
LOCATION:Clear Lake
UID:e.1102.732385
SEQUENCE:3
DTSTAMP:20260421T184437Z
URL:https://members.clearlakeiowa.com/events/details/trick-or-treat-night-732385
END:VEVENT

END:VCALENDAR
