BEGIN:VCALENDAR
VERSION:2.0
PRODID:-//ChamberMaster//Event Calendar 2.0//EN
METHOD:PUBLISH
X-PUBLISHED-TTL:P3D
REFRESH-INTERVAL:P3D
CALSCALE:GREGORIAN
BEGIN:VEVENT
DTSTART;VALUE=DATE:20260829
DTEND;VALUE=DATE:20260830
TRANSP:TRANSPARENT
X-MICROSOFT-CDO-ALLDAYEVENT:TRUE
SUMMARY:TRI Clear Lake
DESCRIPTION:The Clear Lake Area Chamber of Commerce will be hosting the 10th Annual TRI Clear Lake Triathlon sanctioned by USA Triathlon on August 29th\, 2026. The scenic course will begin at City Beach for the swim and the bike course guides athletes out and back along South Shore Drive through the prairie and windmills south of Clear Lake. The race is capped off with a run on North Shore drive\, passing by the Lady of the Lake and historic Surf Ballroom with a lakeside finish in City Park downtown Clear Lake. At the completion of the race\, you will experience a high-energy lakefront finish line party\, complete with music\, food and beverages!
X-ALT-DESC;FMTTYPE=text/html:<p style="margin: 0px\; padding: 0px\; color: rgb(70\, 70\, 70)\; font-family: Arial\, Verdana\, Helvetica\, sans-serif\; font-size: 14px\; white-space-collapse: preserve\; text-align: center\;"><span style="font-family:arial\;"><span style="font-size: 12px\; color: rgb(0\, 0\, 0)\;">The Clear Lake Area Chamber of Commerce will be hosting the 10th Annual TRI Clear Lake Triathlon sanctioned by USA Triathlon on August 29th\, 2026. The scenic course will begin at City Beach for the swim and the bike course guides athletes out and back along South Shore Drive through the prairie and windmills south of Clear Lake. The race is capped off with a run on North Shore drive\, passing by the Lady of the Lake and historic Surf Ballroom with a lakeside finish in City Park downtown Clear Lake. </span></span><span style="font-family:arial\;"><span style="font-size: 12px\; color: rgb(0\, 0\, 0)\;">At the completion of the race\, you will experience a high-energy lakefront finish line party\, complete with music\, food and beverages!</span></span></p>\n
LOCATION:Clear Lake\, Iowa
UID:e.1102.740548
SEQUENCE:3
DTSTAMP:20260419T174314Z
URL:https://members.clearlakeiowa.com/events/details/tri-clear-lake-740548
END:VEVENT

END:VCALENDAR
