BEGIN:VCALENDAR
VERSION:2.0
PRODID:-//ChamberMaster//Event Calendar 2.0//EN
METHOD:PUBLISH
X-PUBLISHED-TTL:P3D
REFRESH-INTERVAL:P3D
CALSCALE:GREGORIAN
BEGIN:VEVENT
DTSTART:20260328T010000Z
DTEND:20260328T045500Z
X-MICROSOFT-CDO-ALLDAYEVENT:FALSE
SUMMARY:Tracy Lawrence with special guest Austin Allsup RESCHEDULED DAT
DESCRIPTION:SOLD OUT! RESCHEDULED TO MARCH 27\, 2026! Dust off your boots   Tracy Lawrence is comin' to the Surf! ?? With 13M albums sold and 18 No.1 singles\, Tracy Lawrence has solidified his status as a cornerstone of country music for more than thirty years. Even as he continues to release music and tour\, the CMA and ACM award winner's ambitions have also extended to numerous media and charity projects. His interest in working with younger artists and being able to explore different topics led to the "TL's Road House" podcast\, which has featured guests such as HARDY\, Jelly Roll\, Lainey Wilson and more. Over three decades into his decorated career\, Lawrence's legacy continues to evolve. He spent 2024 touring with artists like Riley Green\, Luke Bryan\, Lainey Wilson and more on top of his first-ever headlining show at the Ryman\, which was sold out. After revisiting his catalog with the Hindsight 2020 Vol 1\, 2 and 3 and Live at Billy Bob's Texas albums\, Lawrence released his Out Here In It EP\, available everywhere now. Meanwhile\, Lawrence continues to uphold his commitment to helping those in need across Middle Tennessee and beyond with his Mission:Possible non-profit committed to serving the homeless. From its humble beginnings cooking Thanksgiving dinners for the Nashville Rescue Mission to frying over 10K turkeys to date\, the organization has raised more than $1M for those in need. In recognition of his philanthropic efforts\, Lawrence was honored with the 2023 CRS Humanitarian Award.
X-ALT-DESC;FMTTYPE=text/html:SOLD OUT! RESCHEDULED TO MARCH 27\, 2026! Dust off your boots &mdash\; Tracy Lawrence is comin&rsquo\; to the Surf! ?? With 13M albums sold and 18 No.1 singles\, Tracy Lawrence has solidified his status as a cornerstone of country music for more than thirty years. Even as he continues to release music and tour\, the CMA and ACM award winner&rsquo\;s ambitions have also extended to numerous media and charity projects. His interest in working with younger artists and being able to explore different topics led to the &ldquo\;TL&rsquo\;s Road House&rdquo\; podcast\, which has featured guests such as HARDY\, Jelly Roll\, Lainey Wilson and more. Over three decades into his decorated career\, Lawrence&rsquo\;s legacy continues to evolve. He spent 2024 touring with artists like Riley Green\, Luke Bryan\, Lainey Wilson and more on top of his first-ever headlining show at the Ryman\, which was sold out. After revisiting his catalog with the Hindsight 2020 Vol 1\, 2 and 3 and Live at Billy Bob&rsquo\;s Texas albums\, Lawrence released his Out Here In It EP\, available everywhere now. Meanwhile\, Lawrence continues to uphold his commitment to helping those in need across Middle Tennessee and beyond with his Mission:Possible non-profit committed to serving the homeless. From its humble beginnings cooking Thanksgiving dinners for the Nashville Rescue Mission to frying over 10K turkeys to date\, the organization has raised more than $1M for those in need. In recognition of his philanthropic efforts\, Lawrence was honored with the 2023 CRS Humanitarian Award.
LOCATION:460 North Shore
UID:e.1102.741066
SEQUENCE:3
DTSTAMP:20260419T140543Z
URL:https://members.clearlakeiowa.com/events/details/tracy-lawrence-with-special-guest-austin-allsup-rescheduled-dat-741066
END:VEVENT

END:VCALENDAR
