BEGIN:VCALENDAR
VERSION:2.0
PRODID:-//ChamberMaster//Event Calendar 2.0//EN
METHOD:PUBLISH
X-PUBLISHED-TTL:P3D
REFRESH-INTERVAL:P3D
CALSCALE:GREGORIAN
BEGIN:VEVENT
DTSTART:20260723T230000Z
DTEND:20260724T020000Z
X-MICROSOFT-CDO-ALLDAYEVENT:FALSE
SUMMARY:Thursdays on Main
DESCRIPTION:Start your weekend early at Thursdays on Main! This Chamber summer event series features live entertainment\, classic cars\, bounce houses\, extended retail store hours\, vendor street market\, and more!\n\n\nMain Avenue activities are 6:00-9:00pm\n\nSpecial Entertainment: Clear Lake Police Department\n\n7:00-9:00pm: Live Music on the street stage: Kraft Brothers\n\nAll activities are FREE thanks to our generous sponsors\n\n\n\nVendor Applications will be on our website Spring 2026
X-ALT-DESC;FMTTYPE=text/html:<div class="xdj266r x11i5rnm xat24cr x1mh8g0r x1vvkbs x126k92a" color:="" font-size:="" segoe="" style="margin: 0px\; white-space: pre-wrap\; overflow-wrap: break-word\; font-family: " ui="">\n<p dir="auto" style="font-family: inherit\;"><span style="font-family: inherit\; font-size: 14px\;"><span style="font-family: arial\;">Start your weekend early at Thursdays on Main! T</span></span><span style="font-family: arial\; font-size: 14px\;">his Chamber summer event series features live entertainment\, classic cars\, bounce houses\, extended retail store hours\, vendor street market\, and more!</span></p>\n</div>\n\n<p><span style="font-size:14px\;"><span style="font-family:arial\;">Main Avenue activities are 6:00-9:00pm<br />\nSpecial Entertainment: Clear Lake Police Department<br />\n7:00-9:00pm: Live Music on the street stage: Kraft Brothers</span></span></p>\n\n<p><span style="font-size:14px\;"><span style="font-family:arial\;">All activities are FREE thanks to our generous sponsors</span></span><br />\n<br />\n<span style="font-family: arial\; font-size: 14px\;">Vendor Applications will be on our website Spring 2026</span></p>\n
LOCATION:Downtown Clear Lake
UID:e.1102.740175
SEQUENCE:3
DTSTAMP:20260419T151956Z
URL:https://members.clearlakeiowa.com/events/details/thursdays-on-main-07-23-2026-740175
END:VEVENT

END:VCALENDAR
