BEGIN:VCALENDAR
VERSION:2.0
PRODID:-//ChamberMaster//Event Calendar 2.0//EN
METHOD:PUBLISH
X-PUBLISHED-TTL:P3D
REFRESH-INTERVAL:P3D
CALSCALE:GREGORIAN
BEGIN:VEVENT
DTSTART:20191219T220000Z
DTEND:20191220T000000Z
X-MICROSOFT-CDO-ALLDAYEVENT:FALSE
SUMMARY:The Texas Tenors: Deep in the Heart of Christmas
DESCRIPTION:Since their whirlwind debut on NBC's "America's Got Talent\," The Texas Tenors have accumulated a long list of awards\, accolades\, and excited fans. Marcus Collins\, John Hagen\, and JC Fisher treat audiences to a unique blend of country\, classical\, Broadway\, and current pop music. They use breathtaking vocals\, humor\, and a touch of cowboy charm to create an unforgettable Christmas show.
X-ALT-DESC;FMTTYPE=text/html:Since their whirlwind debut on NBC&#39\;s &quot\;America&#39\;s Got Talent\,&quot\; The Texas Tenors have accumulated a long list of awards\, accolades\, and excited fans. Marcus Collins\, John Hagen\, and JC Fisher treat audiences to a unique blend of country\, classical\, Broadway\, and current pop music. They use breathtaking vocals\, humor\, and a touch of cowboy charm to create an unforgettable Christmas show.
LOCATION:North Iowa Community Auditorium
UID:e.1102.732469
SEQUENCE:3
DTSTAMP:20260421T161438Z
URL:https://members.clearlakeiowa.com/events/details/the-texas-tenors-deep-in-the-heart-of-christmas-732469
END:VEVENT

END:VCALENDAR
