BEGIN:VCALENDAR
VERSION:2.0
PRODID:-//ChamberMaster//Event Calendar 2.0//EN
METHOD:PUBLISH
X-PUBLISHED-TTL:P3D
REFRESH-INTERVAL:P3D
CALSCALE:GREGORIAN
BEGIN:VEVENT
DTSTART:20260101T220000Z
DTEND:20260105T030000Z
X-MICROSOFT-CDO-ALLDAYEVENT:FALSE
SUMMARY:The SpongeBob Movie: Search for SquarePants
DESCRIPTION:The SpongeBob Movie: Search for SquarePants(PG) at Lake Theatre! Showings on Thursday & Friday at 4 & 7\, then 1\,4\, & 7 on the weekend.
X-ALT-DESC;FMTTYPE=text/html:The SpongeBob Movie: Search for SquarePants(PG) at Lake Theatre! Showings on Thursday &amp\; Friday at 4 &amp\; 7\, then 1\,4\, &amp\; 7 on the weekend.
LOCATION:Lake Theatre\, 4 N 4th Street
UID:e.1102.740735
SEQUENCE:3
DTSTAMP:20260419T191807Z
URL:https://members.clearlakeiowa.com/events/details/the-spongebob-movie-search-for-squarepants-740735
END:VEVENT

END:VCALENDAR
