BEGIN:VCALENDAR
VERSION:2.0
PRODID:-//ChamberMaster//Event Calendar 2.0//EN
METHOD:PUBLISH
X-PUBLISHED-TTL:P3D
REFRESH-INTERVAL:P3D
CALSCALE:GREGORIAN
BEGIN:VEVENT
DTSTART:20191214T160000Z
DTEND:20191214T180000Z
X-MICROSOFT-CDO-ALLDAYEVENT:FALSE
SUMMARY:The Salvation Army's 21st Annual Auction
DESCRIPTION:Join us for The Salvation Army's 21st Annual Auction! We will be at a brand new location this year-- Mason City's own Music Man Square! Not interested in bidding on the Krugerrand? No problem! We will have a large variety of high quality items for you to bid on. There will also be many silent auction items to bid on for those who prefer a more relaxed or private option to lend your support. In addition to the auction festivities this year we will have local youth choirs from around the area performing each half hour. Be sure to follow our Facebook page for updates on the wide variety of items that will be up for auction.We look forward to seeing you there!
X-ALT-DESC;FMTTYPE=text/html:Join us for The Salvation Army&#39\;s 21st Annual Auction! We will be at a brand new location this year-- Mason City&#39\;s own Music Man Square! Not interested in bidding on the Krugerrand? No problem! We will have a large variety of high quality items for you to bid on. There will also be many silent auction items to bid on for those who prefer a more relaxed or private option to lend your support. In addition to the auction festivities this year we will have local youth choirs from around the area performing each half hour. Be sure to follow our Facebook page for updates on the wide variety of items that will be up for auction.We look forward to seeing you there!
LOCATION:The Music Man Square
UID:e.1102.732450
SEQUENCE:3
DTSTAMP:20260421T172348Z
URL:https://members.clearlakeiowa.com/events/details/the-salvation-army-s-21st-annual-auction-732450
END:VEVENT

END:VCALENDAR
