BEGIN:VCALENDAR
VERSION:2.0
PRODID:-//ChamberMaster//Event Calendar 2.0//EN
METHOD:PUBLISH
X-PUBLISHED-TTL:P3D
REFRESH-INTERVAL:P3D
CALSCALE:GREGORIAN
BEGIN:VEVENT
DTSTART:20191201T030000Z
DTEND:20191201T050000Z
X-MICROSOFT-CDO-ALLDAYEVENT:FALSE
SUMMARY:The Mocking Birds at Sharkys
DESCRIPTION:Their first time playing downstairs at Sharkys We have all heard the talent of this husband and wife duo and the many songs they can sing like you were at the concert .. Come bring friends and family for this musical event
X-ALT-DESC;FMTTYPE=text/html:Their first time playing downstairs at Sharkys We have all heard the talent of this husband and wife duo and the many songs they can sing like you were at the concert .. Come bring friends and family for this musical event
LOCATION:12 South Shore Dr.
UID:e.1102.732464
SEQUENCE:3
DTSTAMP:20260421T154707Z
URL:https://members.clearlakeiowa.com/events/details/the-mocking-birds-at-sharkys-732464
END:VEVENT

END:VCALENDAR
