BEGIN:VCALENDAR
VERSION:2.0
PRODID:-//ChamberMaster//Event Calendar 2.0//EN
METHOD:PUBLISH
X-PUBLISHED-TTL:P3D
REFRESH-INTERVAL:P3D
CALSCALE:GREGORIAN
BEGIN:VEVENT
DTSTART:20260130T170000Z
DTEND:20260130T210000Z
X-MICROSOFT-CDO-ALLDAYEVENT:FALSE
SUMMARY:The Legends Lunch
DESCRIPTION:The Legends Lunch - 11:00 am - Doors Open 12:00 pm - Lunch 12:30 pm - 3:00 pm - Live Band\, Dancing & Cash Bar
X-ALT-DESC;FMTTYPE=text/html:The Legends Lunch - 11:00 am - Doors Open 12:00 pm - Lunch 12:30 pm - 3:00 pm - Live Band\, Dancing &amp\; Cash Bar
LOCATION:Best Western Holiday Lodge - Diamond Ballroom
UID:e.1102.740741
SEQUENCE:3
DTSTAMP:20260419T191428Z
URL:https://members.clearlakeiowa.com/events/details/the-legends-lunch-740741
END:VEVENT

END:VCALENDAR
