BEGIN:VCALENDAR
VERSION:2.0
PRODID:-//ChamberMaster//Event Calendar 2.0//EN
METHOD:PUBLISH
X-PUBLISHED-TTL:P3D
REFRESH-INTERVAL:P3D
CALSCALE:GREGORIAN
BEGIN:VEVENT
DTSTART:20250503T190000Z
DTEND:20250503T210000Z
X-MICROSOFT-CDO-ALLDAYEVENT:FALSE
SUMMARY:Teen Paint & Pour
DESCRIPTION:Join us in the meeting room for a couple of relaxing hours painting\, chatting\, and enjoying refreshments! No artistic talent needed\, we will guide you through a painting step-by-step until you have your very own masterpiece to bring home! All painting supplies will be provided along with a dirty soda. Just bring yourself and an appreciation for art!
X-ALT-DESC;FMTTYPE=text/html:Join us in the meeting room for a couple of relaxing hours painting\, chatting\, and enjoying refreshments! No artistic talent needed\, we will guide you through a painting step-by-step until you have your very own masterpiece to bring home! All painting supplies will be provided along with a dirty soda. Just bring yourself and an appreciation for art!
LOCATION:Clear Lake Public Library 200 N 4th St
UID:e.1102.739464
SEQUENCE:3
DTSTAMP:20260424T082122Z
URL:https://members.clearlakeiowa.com/events/details/teen-paint-pour-739464
END:VEVENT

END:VCALENDAR
