BEGIN:VCALENDAR
VERSION:2.0
PRODID:-//ChamberMaster//Event Calendar 2.0//EN
METHOD:PUBLISH
X-PUBLISHED-TTL:P3D
REFRESH-INTERVAL:P3D
CALSCALE:GREGORIAN
BEGIN:VEVENT
DTSTART:20250311T223000Z
DTEND:20250312T003000Z
X-MICROSOFT-CDO-ALLDAYEVENT:FALSE
SUMMARY:Teen Movie Night
DESCRIPTION:Join us in the meeting room for a movie night that's just for the teens (grades 6-12)! Choose from a selection of movies and enjoy the popcorn and lemonade provided
X-ALT-DESC;FMTTYPE=text/html:Join us in the meeting room for a movie night that&rsquo\;s just for the teens (grades 6-12)! Choose from a selection of movies and enjoy the popcorn and lemonade provided
LOCATION:Clear Lake Public Library 200 N 4th St
UID:e.1102.739445
SEQUENCE:3
DTSTAMP:20260422T184724Z
URL:https://members.clearlakeiowa.com/events/details/teen-movie-night-739445
END:VEVENT

END:VCALENDAR
