BEGIN:VCALENDAR
VERSION:2.0
PRODID:-//ChamberMaster//Event Calendar 2.0//EN
METHOD:PUBLISH
X-PUBLISHED-TTL:P3D
REFRESH-INTERVAL:P3D
CALSCALE:GREGORIAN
BEGIN:VEVENT
DTSTART:20260108T213000Z
DTEND:20260108T223000Z
X-MICROSOFT-CDO-ALLDAYEVENT:FALSE
SUMMARY:Teen Craft Hour: Button Making
DESCRIPTION:It's craft day at the library! Grab your friends and stop by to create your very own buttons to decorate your backpack or wear proudly on your shirt. Find us upstairs in the teen area of the library! For teens in grades 6-12.
X-ALT-DESC;FMTTYPE=text/html:It&#39\;s craft day at the library! Grab your friends and stop by to create your very own buttons to decorate your backpack or wear proudly on your shirt. Find us upstairs in the teen area of the library! For teens in grades 6-12.
LOCATION:Clear Lake Public Library 200 N 4th St
UID:e.1102.740193
SEQUENCE:3
DTSTAMP:20260419T191547Z
URL:https://members.clearlakeiowa.com/events/details/teen-craft-hour-button-making-740193
END:VEVENT

END:VCALENDAR
