BEGIN:VCALENDAR
VERSION:2.0
PRODID:-//ChamberMaster//Event Calendar 2.0//EN
METHOD:PUBLISH
X-PUBLISHED-TTL:P3D
REFRESH-INTERVAL:P3D
CALSCALE:GREGORIAN
BEGIN:VEVENT
DTSTART:20191022T220000Z
DTEND:20191023T000000Z
X-MICROSOFT-CDO-ALLDAYEVENT:FALSE
SUMMARY:Tech Brew
DESCRIPTION:Tech Brews are networking events designed to bring together entrepreneurs\, technologists\, business people and investors.  Sponsored by the Technology Association of Iowa\, NIACC's John Pappajohn Entrepreneurial Center and the North Iowa Corridor EDC.
X-ALT-DESC;FMTTYPE=text/html:Tech Brews are networking events designed to bring together entrepreneurs\, technologists\, business people and investors. &nbsp\;Sponsored by the Technology Association of Iowa\, NIACC&#39\;s John Pappajohn&nbsp\;Entrepreneurial Center and the North Iowa Corridor EDC.
LOCATION:
UID:e.1102.731747
SEQUENCE:3
DTSTAMP:20260421T184153Z
URL:https://members.clearlakeiowa.com/events/details/tech-brew-731747
END:VEVENT

END:VCALENDAR
