BEGIN:VCALENDAR
VERSION:2.0
PRODID:-//ChamberMaster//Event Calendar 2.0//EN
METHOD:PUBLISH
X-PUBLISHED-TTL:P3D
REFRESH-INTERVAL:P3D
CALSCALE:GREGORIAN
BEGIN:VEVENT
DTSTART;VALUE=DATE:20190924
DTEND;VALUE=DATE:20190925
TRANSP:TRANSPARENT
X-MICROSOFT-CDO-ALLDAYEVENT:TRUE
SUMMARY:Tech Brew
DESCRIPTION:Tech Brews are networking events designed to bring together entrepreneurs\, technologists\, business people and investors.  Sponsored by the Technology Association of Iowa\, NIACC's John Pappajohn Entrepreneurial Center and the North Iowa Corridor EDC.
X-ALT-DESC;FMTTYPE=text/html:Tech Brews are networking events designed to bring together entrepreneurs\, technologists\, business people and investors. &nbsp\;Sponsored by the Technology Association of Iowa\, NIACC&#39\;s John Pappajohn&nbsp\;Entrepreneurial Center and the North Iowa Corridor EDC.
LOCATION:TechBrew North Iowa is held in Clear Lake during the summer months.
UID:e.1102.731746
SEQUENCE:3
DTSTAMP:20260421T201727Z
URL:https://members.clearlakeiowa.com/events/details/tech-brew-09-24-2019-731746
END:VEVENT

END:VCALENDAR
