BEGIN:VCALENDAR
VERSION:2.0
PRODID:-//ChamberMaster//Event Calendar 2.0//EN
METHOD:PUBLISH
X-PUBLISHED-TTL:P3D
REFRESH-INTERVAL:P3D
CALSCALE:GREGORIAN
BEGIN:VEVENT
DTSTART:20250503T200000Z
DTEND:20250504T000000Z
X-MICROSOFT-CDO-ALLDAYEVENT:FALSE
SUMMARY:@ TAP'd DERBY PARTY featuring THE SWEET NUTHINS
DESCRIPTION:THE SWEET NUTHINS are making the trip back to TAP'd to get us riled up for THE KENTUCKY DERBY! This local pop rock group has really made a name for themselves in the area! You'll hear them cover some of the greats by The Band\, The Beatles and Van Morrison! Show starts at 3! 5 SHOWS AT TAP'd this week Wednesday-Friday & twice on Saturday!
X-ALT-DESC;FMTTYPE=text/html:THE SWEET NUTHINS are making the trip back to TAP&rsquo\;d to get us riled up for THE KENTUCKY DERBY! This local pop rock group has really made a name for themselves in the area! You&rsquo\;ll hear them cover some of the greats by The Band\, The Beatles and Van Morrison! Show starts at 3! 5 SHOWS AT TAP&#39\;d this week Wednesday-Friday &amp\; twice on Saturday!
LOCATION:313 Main Avenue
UID:e.1102.739672
SEQUENCE:3
DTSTAMP:20260424T082248Z
URL:https://members.clearlakeiowa.com/events/details/tap-d-derby-party-featuring-the-sweet-nuthins-739672
END:VEVENT

END:VCALENDAR
