BEGIN:VCALENDAR
VERSION:2.0
PRODID:-//ChamberMaster//Event Calendar 2.0//EN
METHOD:PUBLISH
X-PUBLISHED-TTL:P3D
REFRESH-INTERVAL:P3D
CALSCALE:GREGORIAN
BEGIN:VEVENT
DTSTART;VALUE=DATE:20210605
DTEND;VALUE=DATE:20210606
TRANSP:TRANSPARENT
X-MICROSOFT-CDO-ALLDAYEVENT:TRUE
SUMMARY:Swinging Fore Autism Charity Golf Tournament
DESCRIPTION:Sign up is now open for the 7th annual Clear Lake Jaycees Charity Golf Tournament! All the profits from this event will be donated to the One Vision Autism Center in Clear Lake. Cost: $240/foursome (includes 18 holes of golf\, cart & meal) Time: 12:00 - Registration & Happy Hour 1:00 - Shotgun Start To register for the event email Joni Erwin (jonilerwin@gmail.com).
X-ALT-DESC;FMTTYPE=text/html:Sign up is now open for the 7th annual Clear Lake Jaycees Charity Golf Tournament! All the profits from this event will be donated to the One Vision Autism Center in Clear Lake. Cost: $240/foursome (includes 18 holes of golf\, cart &amp\; meal) Time: 12:00 - Registration &amp\; Happy Hour 1:00 - Shotgun Start To register for the event email Joni Erwin (jonilerwin@gmail.com).
LOCATION:Veteran's Memorial Golf Club
UID:e.1102.733630
SEQUENCE:3
DTSTAMP:20260422T184608Z
URL:https://members.clearlakeiowa.com/events/details/swinging-fore-autism-charity-golf-tournament-733630
END:VEVENT

END:VCALENDAR
