BEGIN:VCALENDAR
VERSION:2.0
PRODID:-//ChamberMaster//Event Calendar 2.0//EN
METHOD:PUBLISH
X-PUBLISHED-TTL:P3D
REFRESH-INTERVAL:P3D
CALSCALE:GREGORIAN
BEGIN:VEVENT
DTSTART:20210708T000000Z
DTEND:20210708T023000Z
X-MICROSOFT-CDO-ALLDAYEVENT:FALSE
SUMMARY:Surf Summer Showcase: Irie Sol
DESCRIPTION:Support regional and local live music at the Legendary Surf Ballroom! This Week: Irie Sol
X-ALT-DESC;FMTTYPE=text/html:Support regional and local live music at the Legendary Surf Ballroom! This Week: Irie Sol
LOCATION:Surf Ballroom
UID:e.1102.733803
SEQUENCE:3
DTSTAMP:20260420T050037Z
URL:https://members.clearlakeiowa.com/events/details/surf-summer-showcase-irie-sol-733803
END:VEVENT

END:VCALENDAR
