BEGIN:VCALENDAR
VERSION:2.0
PRODID:-//ChamberMaster//Event Calendar 2.0//EN
METHOD:PUBLISH
X-PUBLISHED-TTL:P3D
REFRESH-INTERVAL:P3D
CALSCALE:GREGORIAN
BEGIN:VEVENT
DTSTART:20210722T000000Z
DTEND:20210722T023000Z
X-MICROSOFT-CDO-ALLDAYEVENT:FALSE
SUMMARY:Surf Summer Showcase: Hard Days Night
DESCRIPTION:Support regional and local live music at the Legendary Surf Ballroom! This Week: Hard Days Night
X-ALT-DESC;FMTTYPE=text/html:Support regional and local live music at the Legendary Surf Ballroom! This Week: Hard Days Night
LOCATION:Surf Ballroom
UID:e.1102.733800
SEQUENCE:3
DTSTAMP:20260420T050240Z
URL:https://members.clearlakeiowa.com/events/details/surf-summer-showcase-hard-days-night-733800
END:VEVENT

END:VCALENDAR
