BEGIN:VCALENDAR
VERSION:2.0
PRODID:-//ChamberMaster//Event Calendar 2.0//EN
METHOD:PUBLISH
X-PUBLISHED-TTL:P3D
REFRESH-INTERVAL:P3D
CALSCALE:GREGORIAN
BEGIN:VEVENT
DTSTART:20260313T150000Z
DTEND:20260313T170000Z
X-MICROSOFT-CDO-ALLDAYEVENT:FALSE
SUMMARY:Superhero Play Date
DESCRIPTION:It's a SUPER day at the library! Join us in the meeting room for some fun superhero-themed games and activities. Superhero attire or costumes encouraged! Geared toward ages 6 and under\, but all are welcome.
X-ALT-DESC;FMTTYPE=text/html:It&#39\;s a SUPER day at the library! Join us in the meeting room for some fun superhero-themed games and activities. Superhero attire or costumes encouraged! Geared toward ages 6 and under\, but all are welcome.
LOCATION:Clear Lake Public Library 200 N 4th Street Meeting Rooms
UID:e.1102.740126
SEQUENCE:3
DTSTAMP:20260419T124804Z
URL:https://members.clearlakeiowa.com/events/details/superhero-play-date-740126
END:VEVENT

END:VCALENDAR
