BEGIN:VCALENDAR
VERSION:2.0
PRODID:-//ChamberMaster//Event Calendar 2.0//EN
METHOD:PUBLISH
X-PUBLISHED-TTL:P3D
REFRESH-INTERVAL:P3D
CALSCALE:GREGORIAN
BEGIN:VEVENT
DTSTART;VALUE=DATE:20240823
DTEND;VALUE=DATE:20240826
TRANSP:TRANSPARENT
X-MICROSOFT-CDO-ALLDAYEVENT:TRUE
SUMMARY:Summer Sizzler Pickleball Tournament
DESCRIPTION:Summer Sizzler is an outdoor tournament on Clear Lake's NEW outdoor courts!\n\nFriday: Men's & Women's Singles\n\nSaturday: Men's\, Women's Doubles\n\nSunday: Mixed Doubles\n\n3.0\, 3.5\, & 4.0+ in all events
X-ALT-DESC;FMTTYPE=text/html:Summer Sizzler is an outdoor tournament on Clear Lake&#39\;s NEW outdoor courts!<br />\nFriday: Men&#39\;s &amp\; Women&#39\;s Singles<br />\nSaturday: Men&#39\;s\, Women&#39\;s Doubles<br />\nSunday: Mixed Doubles<br />\n3.0\, 3.5\, &amp\; 4.0+ in all events<br />\n&nbsp\;
LOCATION:210 20th St. N.
UID:e.1102.738882
SEQUENCE:3
DTSTAMP:20260422T100303Z
URL:https://members.clearlakeiowa.com/events/details/summer-sizzler-pickleball-tournament-738882
END:VEVENT

END:VCALENDAR
