BEGIN:VCALENDAR
VERSION:2.0
PRODID:-//ChamberMaster//Event Calendar 2.0//EN
METHOD:PUBLISH
X-PUBLISHED-TTL:P3D
REFRESH-INTERVAL:P3D
CALSCALE:GREGORIAN
BEGIN:VEVENT
DTSTART:20260307T170000Z
DTEND:20260307T210000Z
X-MICROSOFT-CDO-ALLDAYEVENT:FALSE
SUMMARY:Sing Along Brunch
DESCRIPTION:Live DJ bringing the vibes! Grab your friends\, warm up those vocals\, and get ready to sing your heart out while enjoying great food\, craft cocktails\, and the best atmosphere in Clear Lake. Open karaoke available! Reserve 173° Bar & Grill\, Where Cool Moments Become Timeless.
X-ALT-DESC;FMTTYPE=text/html:<div class="x14z9mp xat24cr x1lziwak x1vvkbs xtlvy1s x126k92a" style="white-space-collapse: preserve\; margin-inline: 0px\; overflow-wrap: break-word\; margin-bottom: 0px\; margin-top: 0.5em\; font-family: &quot\;Segoe UI Historic&quot\;\, &quot\;Segoe UI&quot\;\, Helvetica\, Arial\, sans-serif\; color: rgb(8\, 8\, 9)\; font-size: 15px\;">\n<div dir="auto" style="font-family: inherit\;"><span style="font-size:12px\;"><span style="font-family:arial\;">Live DJ bringing the vibes! Grab your friends\, warm up those vocals\, and get ready to sing your heart out while enjoying great food\, craft cocktails\, and the best atmosphere in Clear Lake. Open karaoke available! Reserve 173° Bar &amp\; Grill\, Where Cool Moments Become Timeless.</span></span></div>\n</div>\n
LOCATION:Reserve 173° Bar & Grill\, 306 1st Ave. N.
UID:e.1102.741072
SEQUENCE:3
DTSTAMP:20260419T134928Z
URL:https://members.clearlakeiowa.com/events/details/sing-along-brunch-741072
END:VEVENT

END:VCALENDAR
