BEGIN:VCALENDAR
VERSION:2.0
PRODID:-//ChamberMaster//Event Calendar 2.0//EN
METHOD:PUBLISH
X-PUBLISHED-TTL:P3D
REFRESH-INTERVAL:P3D
CALSCALE:GREGORIAN
BEGIN:VEVENT
DTSTART:20211002T170000Z
DTEND:20211003T010000Z
X-MICROSOFT-CDO-ALLDAYEVENT:FALSE
SUMMARY:SharktoberFest @ Sharkys
DESCRIPTION:October 2 2021 SHARKTOBERFEST is back during HarvestFest @ Sharkys Come for Beer\, Brat & Polka Music with samples of Beverages and Ciders and Wine ... Then Later in Evening Virtual DJ for some Real Dancing
X-ALT-DESC;FMTTYPE=text/html:October 2 2021 SHARKTOBERFEST is back during HarvestFest @ Sharkys Come for Beer\, Brat &amp\; Polka Music with samples of Beverages and Ciders and Wine ... Then Later in Evening Virtual DJ for some Real Dancing
LOCATION:12 South Shore Dr.
UID:e.1102.733976
SEQUENCE:3
DTSTAMP:20260423T140130Z
URL:https://members.clearlakeiowa.com/events/details/sharktoberfest-sharkys-10-02-2021-733976
END:VEVENT

END:VCALENDAR
