BEGIN:VCALENDAR
VERSION:2.0
PRODID:-//ChamberMaster//Event Calendar 2.0//EN
METHOD:PUBLISH
X-PUBLISHED-TTL:P3D
REFRESH-INTERVAL:P3D
CALSCALE:GREGORIAN
BEGIN:VEVENT
DTSTART:20191005T170000Z
DTEND:20191005T220000Z
X-MICROSOFT-CDO-ALLDAYEVENT:FALSE
SUMMARY:SharktoberFest
DESCRIPTION:Our 1st Annual SharktoberFest will be during the well-known Harvestfest in Clear Lake. Come try this years Octoberfest Brews along with Brats and Kraut - Polka Music & Games & Prizes We will have a Wine Sampling Booth available for all you other Tasters.. And later that night DJ Music to Dance the night away
X-ALT-DESC;FMTTYPE=text/html:Our 1st Annual SharktoberFest will be during the well-known Harvestfest in Clear Lake. Come try this years Octoberfest Brews along with Brats and Kraut - Polka Music &amp\; Games &amp\; Prizes We will have a Wine Sampling Booth available for all you other Tasters.. And later that night DJ Music to Dance the night away
LOCATION:12 South Shore Dr.
UID:e.1102.732290
SEQUENCE:3
DTSTAMP:20260421T184549Z
URL:https://members.clearlakeiowa.com/events/details/sharktoberfest-10-05-2019-732290
END:VEVENT

END:VCALENDAR
