BEGIN:VCALENDAR
VERSION:2.0
PRODID:-//ChamberMaster//Event Calendar 2.0//EN
METHOD:PUBLISH
X-PUBLISHED-TTL:P3D
REFRESH-INTERVAL:P3D
CALSCALE:GREGORIAN
BEGIN:VEVENT
DTSTART:20191025T223000Z
DTEND:20191026T000000Z
X-MICROSOFT-CDO-ALLDAYEVENT:FALSE
SUMMARY:Sensory Friendly Trick or Treating
DESCRIPTION:One Vision Children's Autism Center Presents 5th Annual Halloween Party. Sensory-Friendly Trick-or Treating This event is open to all children with Autism or other reeds\, as well as their families. Join us for trick or treating\, Halloween crafts\, snacks\, and fun games. Free family photos will also be available. No costumes necessary\, but only non-scary ones Please
X-ALT-DESC;FMTTYPE=text/html:One Vision Children&#39\;s Autism Center Presents 5th Annual Halloween Party. Sensory-Friendly Trick-or Treating This event is open to all children with Autism or other reeds\, as well as their families. Join us for trick or treating\, Halloween crafts\, snacks\, and fun games. Free family photos will also be available. No costumes necessary\, but only non-scary ones Please
LOCATION:Best Western Holiday Lodge Ballroom 2023 7th Ave N Clear Lake\, IA 50428
UID:e.1102.732328
SEQUENCE:3
DTSTAMP:20260421T194225Z
URL:https://members.clearlakeiowa.com/events/details/sensory-friendly-trick-or-treating-732328
END:VEVENT

END:VCALENDAR
