BEGIN:VCALENDAR
VERSION:2.0
PRODID:-//ChamberMaster//Event Calendar 2.0//EN
METHOD:PUBLISH
X-PUBLISHED-TTL:P3D
REFRESH-INTERVAL:P3D
CALSCALE:GREGORIAN
BEGIN:VEVENT
DTSTART:20191001T001500Z
DTEND:20191001T013000Z
X-MICROSOFT-CDO-ALLDAYEVENT:FALSE
SUMMARY:Self Defense seminar
DESCRIPTION:This is part 3 of our 3 part seminar\, you still can participate in the class if you missed the last two and it cost nothing!!\n\nFor more information or questions regarding this seminar please contact me via email or call\n\n\n\nHope to see you there.
X-ALT-DESC;FMTTYPE=text/html:This is part 3 of our 3 part seminar\, you still can participate in the class if you missed the last two and it cost nothing!!<br />\nFor more information or questions regarding this seminar please contact me via email or call<br />\n<br />\nHope to see you there.<br />\n&nbsp\;
LOCATION:Kick USA Karate studio 207 So. 24th St Clear lake ( Right behind 7 stars )
UID:e.1102.732327
SEQUENCE:3
DTSTAMP:20260421T201727Z
URL:https://members.clearlakeiowa.com/events/details/self-defense-seminar-732327
END:VEVENT

END:VCALENDAR
