BEGIN:VCALENDAR
VERSION:2.0
PRODID:-//ChamberMaster//Event Calendar 2.0//EN
METHOD:PUBLISH
X-PUBLISHED-TTL:P3D
REFRESH-INTERVAL:P3D
CALSCALE:GREGORIAN
BEGIN:VEVENT
DTSTART:20250517T160000Z
DTEND:20250517T180000Z
X-MICROSOFT-CDO-ALLDAYEVENT:FALSE
SUMMARY:Scrabble Satruday
DESCRIPTION:Join us on the 3rd Saturday of each month for a couple hours of wordsmithing! Whether you're a seasoned Scrabble enthusiast or just learning\, this is a great opportunity to meet other word lovers and engage in some friendly competition!
X-ALT-DESC;FMTTYPE=text/html:Join us on the 3rd Saturday of each month for a couple hours of wordsmithing! Whether you&rsquo\;re a seasoned Scrabble enthusiast or just learning\, this is a great opportunity to meet other word lovers and engage in some friendly competition!
LOCATION:Clear Lake Public Library 200 N 4th St Clear Lake\, Iowa 54028
UID:e.1102.739064
SEQUENCE:3
DTSTAMP:20260424T082010Z
URL:https://members.clearlakeiowa.com/events/details/scrabble-satruday-05-17-2025-739064
END:VEVENT

END:VCALENDAR
