BEGIN:VCALENDAR
VERSION:2.0
PRODID:-//ChamberMaster//Event Calendar 2.0//EN
METHOD:PUBLISH
X-PUBLISHED-TTL:P3D
REFRESH-INTERVAL:P3D
CALSCALE:GREGORIAN
BEGIN:VEVENT
DTSTART:20260529T150000Z
DTEND:20260529T220000Z
X-MICROSOFT-CDO-ALLDAYEVENT:FALSE
SUMMARY:School's Out Escape Room
DESCRIPTION:Race the clock to escape this school's out-themed room before time runs out!  You have 20 minutes to solve the clues and collect your prize\, so gather your friends and family to see if you have what it takes to escape. All ages welcome!
X-ALT-DESC;FMTTYPE=text/html:Race the clock to escape this school&#39\;s out-themed room before time runs out!&nbsp\; You have 20 minutes to solve the clues and collect your prize\, so gather your friends and family to see if you have what it takes to escape. All ages welcome!
LOCATION:Clear Lake Public Library 200 N 4th St
UID:e.1102.741041
SEQUENCE:3
DTSTAMP:20260419T123553Z
URL:https://members.clearlakeiowa.com/events/details/school-s-out-escape-room-741041
END:VEVENT

END:VCALENDAR
