BEGIN:VCALENDAR
VERSION:2.0
PRODID:-//ChamberMaster//Event Calendar 2.0//EN
METHOD:PUBLISH
X-PUBLISHED-TTL:P3D
REFRESH-INTERVAL:P3D
CALSCALE:GREGORIAN
BEGIN:VEVENT
DTSTART:20191222T190000Z
DTEND:20191222T220000Z
X-MICROSOFT-CDO-ALLDAYEVENT:FALSE
SUMMARY:Santa's House
DESCRIPTION:Visit with Santa Claus and his elves at his house in City Park! Pictures with Santa available for $5.00.
X-ALT-DESC;FMTTYPE=text/html:<p>Visit with Santa Claus and his elves at his house in City Park! Pictures with Santa available for $5.00.&nbsp\;&nbsp\;</p>\n
LOCATION:Santa's House is located in the SE corner of Clear Lake City Park. Just follow the candy cane lane!
UID:e.1102.732516
SEQUENCE:3
DTSTAMP:20260421T161148Z
URL:https://members.clearlakeiowa.com/events/details/santa-s-house-12-22-2019-732516
END:VEVENT

END:VCALENDAR
