BEGIN:VCALENDAR
VERSION:2.0
PRODID:-//ChamberMaster//Event Calendar 2.0//EN
METHOD:PUBLISH
X-PUBLISHED-TTL:P3D
REFRESH-INTERVAL:P3D
CALSCALE:GREGORIAN
BEGIN:VEVENT
DTSTART:20260424T000000Z
DTEND:20260427T020000Z
X-MICROSOFT-CDO-ALLDAYEVENT:FALSE
SUMMARY:Romantic Comedy Movie: You\, Me\, & Tuscany(PG-13)
DESCRIPTION:Anna impulsively jets off to Tuscany\, Italy\, to stay at a stranger's villa without permission. Caught inside the house by the man's mother\, she convinces the woman that she's his fianc e. That little lie soon becomes a big problem when Anna develops a growing attraction to the stranger's handsome cousin.
X-ALT-DESC;FMTTYPE=text/html:Anna impulsively jets off to Tuscany\, Italy\, to stay at a stranger&#39\;s villa without permission. Caught inside the house by the man&#39\;s mother\, she convinces the woman that she&#39\;s his fianc&eacute\;e. That little lie soon becomes a big problem when Anna develops a growing attraction to the stranger&#39\;s handsome cousin.
LOCATION:Lake Theatre\, 4 N 4 4th Street
UID:e.1102.741423
SEQUENCE:3
DTSTAMP:20260422T075245Z
URL:https://members.clearlakeiowa.com/events/details/romantic-comedy-movie-you-me-tuscany-pg-13-741423
END:VEVENT

END:VCALENDAR
