BEGIN:VCALENDAR
VERSION:2.0
PRODID:-//ChamberMaster//Event Calendar 2.0//EN
METHOD:PUBLISH
X-PUBLISHED-TTL:P3D
REFRESH-INTERVAL:P3D
CALSCALE:GREGORIAN
BEGIN:VEVENT
DTSTART;VALUE=DATE:20190923
DTEND;VALUE=DATE:20190924
TRANSP:TRANSPARENT
X-MICROSOFT-CDO-ALLDAYEVENT:TRUE
SUMMARY:Robert Plant & The Sensational Shape Shifters
DESCRIPTION:Robert Plant & The Sensational Space Shifters with Special Guest Lillie Mae live at the Surf Ballroom
X-ALT-DESC;FMTTYPE=text/html:Robert Plant &amp\; The Sensational Space Shifters with Special Guest Lillie Mae live at the Surf Ballroom
LOCATION:Surf Ballroom
UID:e.1102.732016
SEQUENCE:3
DTSTAMP:20260421T201938Z
URL:https://members.clearlakeiowa.com/events/details/robert-plant-the-sensational-shape-shifters-732016
END:VEVENT

END:VCALENDAR
