BEGIN:VCALENDAR
VERSION:2.0
PRODID:-//ChamberMaster//Event Calendar 2.0//EN
METHOD:PUBLISH
X-PUBLISHED-TTL:P3D
REFRESH-INTERVAL:P3D
CALSCALE:GREGORIAN
BEGIN:VEVENT
DTSTART:20260501T190000Z
DTEND:20260501T210000Z
X-MICROSOFT-CDO-ALLDAYEVENT:FALSE
SUMMARY:Rising Tides: Lake Leadership Alumni Program at Lake Theatre
DESCRIPTION:The Clear Lake Area Chamber of Commerce is excited to host its third Rising Tides: Lake Leadership Alumni Program on Friday\, May 1\, at Lake Theatre in Clear Lake.\n\n\n\nEvent Details\n\n  Friday\, May 1\n\n  2-4 p.m.\n\n  Lake Theatre\, 4 N. 4th St.\, Clear Lake\n\n  $20 per person (includes movie theater refreshments)\n\n\n\nJoin fellow Lake Leadership graduates for an engaging afternoon of connection\, learning and behind-the-scenes access. The program includes networking\, remarks from Clear Lake historian Beth Ann Schumacher on the theater's history and more\, followed by theater owners Aaron and Erin Donaldson sharing their vision\, renovations and capital campaign efforts   plus an exclusive behind-the-scenes tour and classic theater popcorn\, candy and pop.\n\n\n\nLake Theatre\, a cornerstone of the community for more than 90 years\, is now entering its next chapter with a recently launched capital campaign to fund renovations\, expand amenities\, and transform the space into a multi-purpose cultural and community hub.\n\n\n\nThe Rising Tides: Lake Leadership Alumni Program is an initiative designed to reconnect graduates of our flagship leadership program while providing ongoing opportunities to learn\, grow\, and continue making an impact in our community. This is the second of what we hope will become quarterly alumni programs featuring networking\, education\, and unique experiences at area businesses and organizations.\n\n\n\n  Register by Wednesday\, April 29. We can't wait to welcome you back\, reconnect\, and continue building leadership momentum together!
X-ALT-DESC;FMTTYPE=text/html:The Clear Lake Area Chamber of Commerce is excited to host its third Rising Tides: Lake Leadership Alumni Program on Friday\, May 1\, at Lake Theatre in Clear Lake.<br />\n<br />\n<strong>Event Details</strong><br />\n<span style="font-family:segoe ui emoji\,sans-serif\;">&#128197\;</span>&nbsp\;Friday\, May 1<br />\n<span style="font-family:segoe ui emoji\,sans-serif\;">&#128358\;</span>&nbsp\;2-4 p.m.<br />\n<span style="font-family:segoe ui emoji\,sans-serif\;">&#128205\;</span> Lake Theatre\, 4 N. 4th St.\, Clear Lake<br />\n<span style="font-family:segoe ui emoji\,sans-serif\;">&#128181\;</span>&nbsp\;$20 per person (includes movie theater refreshments)<br />\n<br />\nJoin fellow Lake Leadership graduates for an engaging afternoon of connection\, learning and behind-the-scenes access. The program includes networking\, remarks from Clear Lake historian Beth Ann Schumacher on the theater&rsquo\;s history and more\, followed by theater owners Aaron and Erin Donaldson sharing their vision\, renovations and capital campaign efforts &mdash\; plus an exclusive behind-the-scenes tour and classic theater popcorn\, candy and pop.<br />\n<br />\nLake Theatre\, a cornerstone of the community for more than 90 years\, is now entering its next chapter with a recently launched capital campaign to fund renovations\, expand amenities\, and transform the space into a multi-purpose cultural and community hub.<br />\n<br />\nThe Rising Tides: Lake Leadership Alumni Program is an initiative designed to reconnect graduates of our flagship leadership program while providing ongoing opportunities to learn\, grow\, and continue making an impact in our community. This is the second of what we hope will become quarterly alumni programs featuring networking\, education\, and unique experiences at area businesses and organizations.<br />\n<br />\n<span style="font-family:segoe ui emoji\,sans-serif\;">&#128073\;</span>&nbsp\;<strong>Register by Wednesday\, April 29.&nbsp\;</strong>We can&rsquo\;t wait to welcome you back\, reconnect\, and continue building leadership momentum together!
LOCATION:Lake Theatre\, 4 N. 4th St. Ave. S.\, Clear Lake\, IA 50428
UID:e.1102.741418
SEQUENCE:3
DTSTAMP:20260419T122956Z
URL:https://members.clearlakeiowa.com/events/details/rising-tides-lake-leadership-alumni-program-at-lake-theatre-741418
END:VEVENT

END:VCALENDAR
