BEGIN:VCALENDAR
VERSION:2.0
PRODID:-//ChamberMaster//Event Calendar 2.0//EN
METHOD:PUBLISH
X-PUBLISHED-TTL:P3D
REFRESH-INTERVAL:P3D
CALSCALE:GREGORIAN
BEGIN:VEVENT
DTSTART:20190909T133000Z
DTEND:20190909T134500Z
X-MICROSOFT-CDO-ALLDAYEVENT:FALSE
SUMMARY:Ribbon Cutting @ Card & Co Tech Solutions
DESCRIPTION:The First Mates welcome new chamber member Card & Co. Tech Solutions!
X-ALT-DESC;FMTTYPE=text/html:The First Mates welcome new chamber member Card &amp\; Co. Tech Solutions!
LOCATION:65 Mission Dr\, Mason City\, IA
UID:e.1102.732263
SEQUENCE:3
DTSTAMP:20260421T201742Z
URL:https://members.clearlakeiowa.com/events/details/ribbon-cutting-card-co-tech-solutions-732263
END:VEVENT

END:VCALENDAR
