BEGIN:VCALENDAR
VERSION:2.0
PRODID:-//ChamberMaster//Event Calendar 2.0//EN
METHOD:PUBLISH
X-PUBLISHED-TTL:P3D
REFRESH-INTERVAL:P3D
CALSCALE:GREGORIAN
BEGIN:VEVENT
DTSTART:20191026T170000Z
DTEND:20191026T190000Z
X-MICROSOFT-CDO-ALLDAYEVENT:FALSE
SUMMARY:Retrieving Freedom at Enchanted Acres
DESCRIPTION:Come out to the Enchanted Acres Pumpkin Patch to learn more about Retrieving Freedom and their puppies! Interact with the puppies\, some in costume\, and feel free to come in costume as well!
X-ALT-DESC;FMTTYPE=text/html:Come out to the Enchanted Acres Pumpkin Patch to learn more about Retrieving Freedom and their puppies! Interact with the puppies\, some in costume\, and feel free to come in costume as well!
LOCATION:Enchanted Acres 1071 250th Street Sheffield
UID:e.1102.732380
SEQUENCE:3
DTSTAMP:20260421T184438Z
URL:https://members.clearlakeiowa.com/events/details/retrieving-freedom-at-enchanted-acres-732380
END:VEVENT

END:VCALENDAR
