BEGIN:VCALENDAR
VERSION:2.0
PRODID:-//ChamberMaster//Event Calendar 2.0//EN
METHOD:PUBLISH
X-PUBLISHED-TTL:P3D
REFRESH-INTERVAL:P3D
CALSCALE:GREGORIAN
BEGIN:VEVENT
DTSTART:20191217T160000Z
DTEND:20191217T180000Z
X-MICROSOFT-CDO-ALLDAYEVENT:FALSE
SUMMARY:Retirement Celebration for Linda Escherich
DESCRIPTION:Tuesday\, December 17th from 10 a.m. - 12:00 p.m. Fareway is hosting a retirement celebration for Linda Escherich. Linda has over 20 years of service with Fareway. Come in and wish Linda good luck and thank her for her service to the Clear Lake community.
X-ALT-DESC;FMTTYPE=text/html:<span style="color:black\;"><span style="font-family:calibri\,sans-serif\;"><span style="font-size:12.0pt\;">Tuesday\, December 17th from 10 a.m. - 12:00 p.m. Fareway is hosting a retirement celebration for Linda Escherich. Linda has over 20 years of service with Fareway. Come in and wish Linda good luck and thank her for her service to the Clear Lake community.&nbsp\;&nbsp\;</span></span></span>
LOCATION:Fareway Clear Lake Iowa
UID:e.1102.732508
SEQUENCE:3
DTSTAMP:20260421T161038Z
URL:https://members.clearlakeiowa.com/events/details/retirement-celebration-for-linda-escherich-732508
END:VEVENT

END:VCALENDAR
