BEGIN:VCALENDAR
VERSION:2.0
PRODID:-//ChamberMaster//Event Calendar 2.0//EN
METHOD:PUBLISH
X-PUBLISHED-TTL:P3D
REFRESH-INTERVAL:P3D
CALSCALE:GREGORIAN
BEGIN:VEVENT
DTSTART:20191219T220000Z
DTEND:20191219T221500Z
X-MICROSOFT-CDO-ALLDAYEVENT:FALSE
SUMMARY:Raymond James & Associates Ribbon Cutting
DESCRIPTION:Ribbon Cutting
X-ALT-DESC;FMTTYPE=text/html:Ribbon Cutting
LOCATION:New Office in Mason City
UID:e.1102.732427
SEQUENCE:3
DTSTAMP:20260421T161159Z
URL:https://members.clearlakeiowa.com/events/details/raymond-james-associates-ribbon-cutting-732427
END:VEVENT

END:VCALENDAR
