BEGIN:VCALENDAR
VERSION:2.0
PRODID:-//ChamberMaster//Event Calendar 2.0//EN
METHOD:PUBLISH
X-PUBLISHED-TTL:P3D
REFRESH-INTERVAL:P3D
CALSCALE:GREGORIAN
BEGIN:VEVENT
DTSTART:20211004T000000Z
DTEND:20211004T030000Z
X-MICROSOFT-CDO-ALLDAYEVENT:FALSE
SUMMARY:Ranky Tanky
DESCRIPTION:Samuel & Patricia Congello Proudly Present Ranky Tanky Join us for an unforgettable evening with the Grammy  Award-winning group\, Ranky Tanky. This energetic group's album soared to the #1 position on the Billboard\, iTunes\, and Amazon Charts\, and they have been profiled on NPR's Fresh Air with Terry Gross. "Ranky Tanky" translates loosely as "Work It\," or "Get Funky"! In this spirit\, this Charleston-based quintet performs timeless music of Gullah culture born in the southeastern Sea Island region of the United States. From playful game songs to ecstatic shouts\, from heartbreaking spirituals to delicate lullabies\, Ranky Tanky will be sure to take you on an enjoyable musical journey. SUNDAY\, OCTOBER 3\, 2021   7:00 P.M. TICKETS START AT $20 STUDENTS $10 CALL FOR TICKETS 641-422-4188 www.niacc.edu/boxoffice www.rankytanky.com
X-ALT-DESC;FMTTYPE=text/html:Samuel &amp\; Patricia Congello Proudly Present Ranky Tanky Join us for an unforgettable evening with the Grammy&reg\; Award-winning group\, Ranky Tanky. This energetic group&rsquo\;s album soared to the #1 position on the Billboard\, iTunes\, and Amazon Charts\, and they have been profiled on NPR&rsquo\;s Fresh Air with Terry Gross. &ldquo\;Ranky Tanky&rdquo\; translates loosely as &ldquo\;Work It\,&rdquo\; or &ldquo\;Get Funky&rdquo\;! In this spirit\, this Charleston-based quintet performs timeless music of Gullah culture born in the southeastern Sea Island region of the United States. From playful game songs to ecstatic shouts\, from heartbreaking spirituals to delicate lullabies\, Ranky Tanky will be sure to take you on an enjoyable musical journey. SUNDAY\, OCTOBER 3\, 2021 &bull\; 7:00 P.M. TICKETS START AT $20 STUDENTS $10 CALL FOR TICKETS 641-422-4188 www.niacc.edu/boxoffice www.rankytanky.com
LOCATION:North Iowa Community Auditorium 500 College Dr. Mason City\, IA 50401
UID:e.1102.733855
SEQUENCE:3
DTSTAMP:20260423T141813Z
URL:https://members.clearlakeiowa.com/events/details/ranky-tanky-733855
END:VEVENT

END:VCALENDAR
