BEGIN:VCALENDAR
VERSION:2.0
PRODID:-//ChamberMaster//Event Calendar 2.0//EN
METHOD:PUBLISH
X-PUBLISHED-TTL:P3D
REFRESH-INTERVAL:P3D
CALSCALE:GREGORIAN
BEGIN:VEVENT
DTSTART:20201218T133000Z
DTEND:20201218T150000Z
X-MICROSOFT-CDO-ALLDAYEVENT:FALSE
SUMMARY:Quarterly Chamber Coffee | December 2020
DESCRIPTION:Grab a cup of your favorite coffee\, and join us for our Quarterly Chamber Coffee...virtually! RSVP to stacy@clearlakeiowa.com\, and she will send you the Zoom login information.\n\nLearn about what's happening in our community\, schools\, and area businesses. We will begin with an update from Doug Gee\, Superintendent Clear Lake Community Schools\, Nelson Crabb\, Clear Lake Mayor\, and Chad Schreck\, President & CEO North Iowa Corridor EDC. Then\, Eric Groth\, CEO and Doug Tooke\, VP of Mission from Renovo Media Group will share about their partnership with Kingland Productions.\n\nAfter that\, we open the floor for 2-minute presentations that fall into the following categories\, submitted by you\, our Chamber members:\n\n  New employee introductions or promotions (to be announced by their supervisor)\n\n  Honors\, awards\, or recognition your organization has received\n\n  Events or things of interest to the community (new product or service your business is offering)\n\n  New Chamber member and First Mates introductions\n\nIf you would like to be added to the agenda\, please email stacy@clearlakeiowa.com by noon Thursday\, December 16th.
X-ALT-DESC;FMTTYPE=text/html:<div class="kvgmc6g5 cxmmr5t8 oygrvhab hcukyx3x c1et5uql" style="overflow-wrap: break-word\; margin: 0px\; font-family: &quot\;Segoe UI Historic&quot\;\, &quot\;Segoe UI&quot\;\, Helvetica\, Arial\, sans-serif\; color: rgb(5\, 5\, 5)\; font-size: 15px\;">Grab a cup of your favorite coffee\, and join us for our Quarterly Chamber Coffee...virtually! RSVP to stacy@clearlakeiowa.com\, and she will send you the Zoom login information.</div>\n\n<div class="o9v6fnle cxmmr5t8 oygrvhab hcukyx3x c1et5uql" style="overflow-wrap: break-word\; margin: 0.5em 0px 0px\; font-family: &quot\;Segoe UI Historic&quot\;\, &quot\;Segoe UI&quot\;\, Helvetica\, Arial\, sans-serif\; color: rgb(5\, 5\, 5)\; font-size: 15px\;">Learn about what&#39\;s happening in our community\, schools\, and area businesses. We will begin with an update from Doug Gee\, Superintendent Clear Lake Community Schools\, Nelson Crabb\, Clear Lake Mayor\, and Chad Schreck\, President &amp\; CEO North Iowa Corridor EDC. Then\,&nbsp\;Eric Groth\, CEO and Doug Tooke\, VP of Mission from Renovo Media Group will share about their partnership with Kingland Productions.</div>\n\n<p class="o9v6fnle cxmmr5t8 oygrvhab hcukyx3x c1et5uql" style="overflow-wrap: break-word\; margin: 0.5em 0px 0px\; font-family: &quot\;Segoe UI Historic&quot\;\, &quot\;Segoe UI&quot\;\, Helvetica\, Arial\, sans-serif\; color: rgb(5\, 5\, 5)\; font-size: 15px\;">After that\,&nbsp\;we open the floor for 2-minute presentations that fall into the following categories\, submitted by you\, our Chamber members:<br />\n&bull\; New employee introductions or promotions (to be announced by their supervisor)<br />\n&bull\; Honors\, awards\, or recognition your organization has received<br />\n&bull\; Events or things of interest to the community (new product or service your business is offering)<br />\n&bull\; New Chamber member and First Mates introductions</p>\n\n<div class="o9v6fnle cxmmr5t8 oygrvhab hcukyx3x c1et5uql" style="overflow-wrap: break-word\; margin: 0.5em 0px 0px\; font-family: &quot\;Segoe UI Historic&quot\;\, &quot\;Segoe UI&quot\;\, Helvetica\, Arial\, sans-serif\; color: rgb(5\, 5\, 5)\; font-size: 15px\;">If you would like to be added to the agenda\, please email stacy@clearlakeiowa.com by noon Thursday\, December 16th.</div>\n
LOCATION:Virtual
UID:e.1102.732520
SEQUENCE:3
DTSTAMP:20260422T121728Z
URL:https://members.clearlakeiowa.com/events/details/quarterly-chamber-coffee-december-2020-732520
END:VEVENT

END:VCALENDAR
