BEGIN:VCALENDAR
VERSION:2.0
PRODID:-//ChamberMaster//Event Calendar 2.0//EN
METHOD:PUBLISH
X-PUBLISHED-TTL:P3D
REFRESH-INTERVAL:P3D
CALSCALE:GREGORIAN
BEGIN:VEVENT
DTSTART:20191024T223000Z
DTEND:20191024T233000Z
X-MICROSOFT-CDO-ALLDAYEVENT:FALSE
SUMMARY:Pumpkin Party
DESCRIPTION:A Pumpkin Party Family Night will be held at the Clear Lake Public Library Thursday\, Oct. 24\, from 5:30-6:30 p.m. as an open house for children age 3 and up and their families. Come join in on the fun by playing games\, creating crafts\, and listening to the pumpkin-themed story time! Story time starts at 6 p.m. There will also be door prize drawings\, including real pumpkins! All activities are free and open to the public.
X-ALT-DESC;FMTTYPE=text/html:A Pumpkin Party Family Night will be held at the Clear Lake Public Library Thursday\, Oct. 24\, from 5:30-6:30 p.m. as an open house for children age 3 and up and their families. Come join in on the fun by playing games\, creating crafts\, and listening to the pumpkin-themed story time! Story time starts at 6 p.m. There will also be door prize drawings\, including real pumpkins! All activities are free and open to the public.
LOCATION:Clear Lake Public Library
UID:e.1102.732284
SEQUENCE:3
DTSTAMP:20260421T184000Z
URL:https://members.clearlakeiowa.com/events/details/pumpkin-party-10-24-2019-732284
END:VEVENT

END:VCALENDAR
