BEGIN:VCALENDAR
VERSION:2.0
PRODID:-//ChamberMaster//Event Calendar 2.0//EN
METHOD:PUBLISH
X-PUBLISHED-TTL:P3D
REFRESH-INTERVAL:P3D
CALSCALE:GREGORIAN
BEGIN:VEVENT
DTSTART:20191004T140000Z
DTEND:20191004T170000Z
X-MICROSOFT-CDO-ALLDAYEVENT:FALSE
SUMMARY:Professional Workplace Communication Seminar
DESCRIPTION:Just because people have more ways to communicate than ever before doesn't mean people are good at communicating. The purpose of this session is to strengthen participants' skills in communicating critical information. With critical information\, the costs and consequences of miscommunication are great\, so extra care and effort must be taken. Learners will come to understand: *The importance of active listening *The role of non-verbal communication *Ways to overcome communication barriers
X-ALT-DESC;FMTTYPE=text/html:Just because people have more ways to communicate than ever before doesn&#39\;t mean people are good at communicating. The purpose of this session is to strengthen participants&#39\; skills in communicating critical information. With critical information\, the costs and consequences of miscommunication are great\, so extra care and effort must be taken. Learners will come to understand: *The importance of active listening *The role of non-verbal communication *Ways to overcome communication barriers
LOCATION:NIACC Muse Norris Conf. Center NC 180
UID:e.1102.732136
SEQUENCE:3
DTSTAMP:20260421T183828Z
URL:https://members.clearlakeiowa.com/events/details/professional-workplace-communication-seminar-732136
END:VEVENT

END:VCALENDAR
