BEGIN:VCALENDAR
VERSION:2.0
PRODID:-//ChamberMaster//Event Calendar 2.0//EN
METHOD:PUBLISH
X-PUBLISHED-TTL:P3D
REFRESH-INTERVAL:P3D
CALSCALE:GREGORIAN
BEGIN:VEVENT
DTSTART:20190915T190000Z
DTEND:20190915T220000Z
X-MICROSOFT-CDO-ALLDAYEVENT:FALSE
SUMMARY:Preservation Celebration in the Garden!
DESCRIPTION:Come learn and feast on all things PRESERVATION at this celebration of nature\, food\, culture and health! Sample the goodness of nature at a table loaded with pickles\, preserves\, bread and more. Walk around and visit a wide variety of organizations\, demonstrations and vendors all concerned with preservation of some sort. Watch how kimchi\, sauerkraut and apple cider are made. Learn how to save seeds and tag Monarchs. An incredible line up of speakers! Sarah Underberg\, co-founder of Agri-cultured foods(Waukee) will share her passion for fermentation and its health benefits. Sarah will be followed by a series of 20 minute talks by Paul Willis(Niman Ranch)\, Lynn Herbert(NETZRO) and Seed Savers of Decorah! Fun for all ages! Stay for a free concert at 5pm by the Planet Pasengers!
X-ALT-DESC;FMTTYPE=text/html:Come learn and feast on all things PRESERVATION at this celebration of nature\, food\, culture and health! Sample the goodness of nature at a table loaded with pickles\, preserves\, bread and more. Walk around and visit a wide variety of organizations\, demonstrations and vendors all concerned with preservation of some sort. Watch how kimchi\, sauerkraut and apple cider are made. Learn how to save seeds and tag Monarchs. An incredible line up of speakers! Sarah Underberg\, co-founder of Agri-cultured foods(Waukee) will share her passion for fermentation and its health benefits. Sarah will be followed by a series of 20 minute talks by Paul Willis(Niman Ranch)\, Lynn Herbert(NETZRO) and Seed Savers of Decorah! Fun for all ages! Stay for a free concert at 5pm by the Planet Pasengers!
LOCATION:Central Gardens of North Iowa 800 2nd Ave North Clear Lake\, Iowa 50428
UID:e.1102.732271
SEQUENCE:3
DTSTAMP:20260421T202108Z
URL:https://members.clearlakeiowa.com/events/details/preservation-celebration-in-the-garden-732271
END:VEVENT

END:VCALENDAR
