BEGIN:VCALENDAR
VERSION:2.0
PRODID:-//ChamberMaster//Event Calendar 2.0//EN
METHOD:PUBLISH
X-PUBLISHED-TTL:P3D
REFRESH-INTERVAL:P3D
CALSCALE:GREGORIAN
BEGIN:VEVENT
DTSTART:20190910T140000Z
DTEND:20190910T160000Z
X-MICROSOFT-CDO-ALLDAYEVENT:FALSE
SUMMARY:Power & Partnership: Building Equitable Relationships in the Workplace
DESCRIPTION:Participants will be invited to enter the conversation from wherever they are in their workplace roles. (This course is for leaders and individual contributors alike.) Together we will explore issues and ideas\, seeking shared power for real partnership in ordinary and difficult situations. Quality collaboration is possible! You will learn to: *Set and maintain a trustworthy environment for lasting relationships *Share power by allowing others to claim their own (without losing yours) *Contribute in ways that influence\, even without formal authority *Recognize and build on workplace diversity such as gender\, race\, age\, and ethnicity *Develop healthy collaborative patterns while maintaining role clarity *Energize people and increase productivity through just\, equitable partnerships
X-ALT-DESC;FMTTYPE=text/html:Participants will be invited to enter the conversation from wherever they are in their workplace roles. (This course is for leaders and individual contributors alike.) Together we will explore issues and ideas\, seeking shared power for real partnership in ordinary and difficult situations. Quality collaboration is possible! You will learn to: *Set and maintain a trustworthy environment for lasting relationships *Share power by allowing others to claim their own (without losing yours) *Contribute in ways that influence\, even without formal authority *Recognize and build on workplace diversity such as gender\, race\, age\, and ethnicity *Develop healthy collaborative patterns while maintaining role clarity *Energize people and increase productivity through just\, equitable partnerships
LOCATION:NIACC Activity Center AC 101
UID:e.1102.732153
SEQUENCE:3
DTSTAMP:20260421T202509Z
URL:https://members.clearlakeiowa.com/events/details/power-partnership-building-equitable-relationships-in-the-workplace-732153
END:VEVENT

END:VCALENDAR
