BEGIN:VCALENDAR
VERSION:2.0
PRODID:-//ChamberMaster//Event Calendar 2.0//EN
METHOD:PUBLISH
X-PUBLISHED-TTL:P3D
REFRESH-INTERVAL:P3D
CALSCALE:GREGORIAN
BEGIN:VEVENT
DTSTART:20191208T183000Z
DTEND:20191208T200000Z
X-MICROSOFT-CDO-ALLDAYEVENT:FALSE
SUMMARY:Polar Bear Dip
DESCRIPTION:The Polar Bear Dip on Sunday at City Beach draws crowds and around 500 brave swimmers who jump in the icy water to raise funds for charity.
X-ALT-DESC;FMTTYPE=text/html:The Polar Bear Dip on Sunday at City Beach draws crowds and around 500 brave swimmers who jump in the icy water to raise funds for charity.<br />\n&nbsp\;
LOCATION:City Beach
UID:e.1102.731537
SEQUENCE:3
DTSTAMP:20260421T160724Z
URL:https://members.clearlakeiowa.com/events/details/polar-bear-dip-731537
END:VEVENT

END:VCALENDAR
