BEGIN:VCALENDAR
VERSION:2.0
PRODID:-//ChamberMaster//Event Calendar 2.0//EN
METHOD:PUBLISH
X-PUBLISHED-TTL:P3D
REFRESH-INTERVAL:P3D
CALSCALE:GREGORIAN
BEGIN:VEVENT
DTSTART:20260323T150000Z
DTEND:20260323T160000Z
X-MICROSOFT-CDO-ALLDAYEVENT:FALSE
SUMMARY:Play Café
DESCRIPTION:Play Caf  is held the fourth Monday from 10:00 - 11:00 a.m. Adults can come enjoy a warm beverage while the kids play in the library community room. For children ages 0-5 with their caregiver.
X-ALT-DESC;FMTTYPE=text/html:Play Caf&eacute\; is held the fourth Monday from 10:00 - 11:00 a.m. Adults can come enjoy a warm beverage while the kids play in the library community room. For children ages 0-5 with their caregiver.
LOCATION:Clear Lake Public Library 200 N 4th Street Meeting Rooms
UID:e.1102.740128
SEQUENCE:3
DTSTAMP:20260419T125018Z
URL:https://members.clearlakeiowa.com/events/details/play-caf&#233;-03-23-2026-740128
END:VEVENT

END:VCALENDAR
