BEGIN:VCALENDAR
VERSION:2.0
PRODID:-//ChamberMaster//Event Calendar 2.0//EN
METHOD:PUBLISH
X-PUBLISHED-TTL:P3D
REFRESH-INTERVAL:P3D
CALSCALE:GREGORIAN
BEGIN:VEVENT
DTSTART:20260523T130000Z
DTEND:20260523T170000Z
X-MICROSOFT-CDO-ALLDAYEVENT:FALSE
SUMMARY:Plant Sale & Gardening Fair
DESCRIPTION:Plant Sale and Gardening Fair Welcome spring at Central Gardens with one of our favorite traditions! Browse a wide selection of perennial plants\, gently used garden tools and equipment\, and one-of-a-kind garden art treasures. Enjoy more than just shopping learn from garden-related educational opportunities\, bring the kids for a hands-on activity\, and soak in the joy of the season. Whether you're an experienced gardener or just getting started\, there's something for everyone to enjoy. This event takes place Saturday\, May 23rd from 8:00AM-12:00PM
X-ALT-DESC;FMTTYPE=text/html:Plant Sale and Gardening Fair Welcome spring at Central Gardens with one of our favorite traditions! Browse a wide selection of perennial plants\, gently used garden tools and equipment\, and one-of-a-kind garden art treasures. Enjoy more than just shopping&mdash\;learn from garden-related educational opportunities\, bring the kids for a hands-on activity\, and soak in the joy of the season. Whether you&rsquo\;re an experienced gardener or just getting started\, there&rsquo\;s something for everyone to enjoy. This event takes place Saturday\, May 23rd from 8:00AM-12:00PM
LOCATION:Central Gardens of North Iowa
UID:e.1102.741347
SEQUENCE:3
DTSTAMP:20260419T123049Z
URL:https://members.clearlakeiowa.com/events/details/plant-sale-gardening-fair-05-23-2026-741347
END:VEVENT

END:VCALENDAR
